BEGIN:VCALENDAR
VERSION:2.0
PRODID:-//Nanaimo Family History Society - ECPv6.15.20//NONSGML v1.0//EN
CALSCALE:GREGORIAN
METHOD:PUBLISH
X-WR-CALNAME:Nanaimo Family History Society
X-ORIGINAL-URL:https://nanaimofamilyhistory.ca
X-WR-CALDESC:Events for Nanaimo Family History Society
REFRESH-INTERVAL;VALUE=DURATION:PT1H
X-Robots-Tag:noindex
X-PUBLISHED-TTL:PT1H
BEGIN:VTIMEZONE
TZID:America/Denver
BEGIN:DAYLIGHT
TZOFFSETFROM:-0700
TZOFFSETTO:-0600
TZNAME:MDT
DTSTART:20240310T090000
END:DAYLIGHT
BEGIN:STANDARD
TZOFFSETFROM:-0600
TZOFFSETTO:-0700
TZNAME:MST
DTSTART:20241103T080000
END:STANDARD
BEGIN:DAYLIGHT
TZOFFSETFROM:-0700
TZOFFSETTO:-0600
TZNAME:MDT
DTSTART:20250309T090000
END:DAYLIGHT
BEGIN:STANDARD
TZOFFSETFROM:-0600
TZOFFSETTO:-0700
TZNAME:MST
DTSTART:20251102T080000
END:STANDARD
BEGIN:DAYLIGHT
TZOFFSETFROM:-0700
TZOFFSETTO:-0600
TZNAME:MDT
DTSTART:20260308T090000
END:DAYLIGHT
BEGIN:STANDARD
TZOFFSETFROM:-0600
TZOFFSETTO:-0700
TZNAME:MST
DTSTART:20261101T080000
END:STANDARD
END:VTIMEZONE
BEGIN:VEVENT
DTSTART;TZID=America/Denver:20251211T183000
DTEND;TZID=America/Denver:20251211T200000
DTSTAMP:20260422T042942
CREATED:20250904T033918Z
LAST-MODIFIED:20250904T033918Z
UID:18735-1765477800-1765483200@nanaimofamilyhistory.ca
SUMMARY:Elizabeth Who? — Thomas Where and When? by Carolyn Kemp
DESCRIPTION:Using UK Wills and Land Records: A Case Study\, Carolyn Kemp \nCarolyn will explore how UK wills and land records assisted her exploration of her Sussex Agate family. This presentation will also provide details about how these important genealogy sources can be found online\, including a number of free sources from numerous UK databases.
URL:https://nanaimofamilyhistory.ca/event/elizabeth-who-thomas-where-and-when-by-carolyn-kemp/
END:VEVENT
BEGIN:VEVENT
DTSTART;TZID=America/Denver:20251208T133000
DTEND;TZID=America/Denver:20251208T160000
DTSTAMP:20260422T042942
CREATED:20250107T010809Z
LAST-MODIFIED:20250107T010809Z
UID:15225-1765200600-1765209600@nanaimofamilyhistory.ca
SUMMARY:NFHS Social
DESCRIPTION:
URL:https://nanaimofamilyhistory.ca/event/nfhs-social-4/
END:VEVENT
BEGIN:VEVENT
DTSTART;TZID=America/Denver:20251204T183000
DTEND;TZID=America/Denver:20251204T200000
DTSTAMP:20260422T042942
CREATED:20250904T033715Z
LAST-MODIFIED:20250904T033715Z
UID:18733-1764873000-1764878400@nanaimofamilyhistory.ca
SUMMARY:SOS: Searches and Strategies for Your Research Challenges\, hosted by Susan Bates\, Bronwyn Frazer
DESCRIPTION:Join us if you have a brick wall you’d like us to tackle\, or if you enjoy solving others’ puzzles\, or if you just want to hear some new strategies that might apply to your own research.\nThese sessions will be held on the first Thursday of October\, November and December.
URL:https://nanaimofamilyhistory.ca/event/sos-searches-and-strategies-for-your-research-challenges-hosted-by-susan-bates-bronwyn-frazer-3/
END:VEVENT
BEGIN:VEVENT
DTSTART;TZID=America/Denver:20251201T130000
DTEND;TZID=America/Denver:20251201T150000
DTSTAMP:20260422T042942
CREATED:20250107T010724Z
LAST-MODIFIED:20250107T010724Z
UID:15223-1764594000-1764601200@nanaimofamilyhistory.ca
SUMMARY:NFHS Executive Meeting
DESCRIPTION:TBD
URL:https://nanaimofamilyhistory.ca/event/nfhs-executive-meeting-41/
END:VEVENT
BEGIN:VEVENT
DTSTART;TZID=America/Denver:20251127T183000
DTEND;TZID=America/Denver:20251127T200000
DTSTAMP:20260422T042942
CREATED:20250921T162007Z
LAST-MODIFIED:20250921T162007Z
UID:18759-1764268200-1764273600@nanaimofamilyhistory.ca
SUMMARY:Show and Tell: War Stories and Mementos from Our Ancestors\, co-hosted by Susan Bates\, Bronwyn Frazer\, Tony Green
DESCRIPTION:This mini zoom session will appeal to members who have stories\, letters\, photos\, medals\, etc. from their families’ war experiences that they’d like to share with the group.
URL:https://nanaimofamilyhistory.ca/event/show-and-tell-war-stories-and-mementos-from-our-ancestors-co-hosted-by-susan-bates-bronwyn-frazer-tony-green/
END:VEVENT
BEGIN:VEVENT
DTSTART;TZID=America/Denver:20251127T100000
DTEND;TZID=America/Denver:20251127T120000
DTSTAMP:20260422T042942
CREATED:20250905T164814Z
LAST-MODIFIED:20250905T164814Z
UID:18747-1764237600-1764244800@nanaimofamilyhistory.ca
SUMMARY:Coffee Club
DESCRIPTION:Come join our large table for fun and interesting conversation. Held on the last Thursday of the month\, 10:00 am to 12 noon at Smitty’s\, Rock City\, 2980 Island Highway\, Nanaimo. We send reminder emails about a week ahead of time and ask for RSVP’s to provide Smitty’s with a number to set up for.
URL:https://nanaimofamilyhistory.ca/event/coffee-club-3/
END:VEVENT
BEGIN:VEVENT
DTSTART;TZID=America/Denver:20251120T183000
DTEND;TZID=America/Denver:20251120T200000
DTSTAMP:20260422T042942
CREATED:20250904T033520Z
LAST-MODIFIED:20250904T033520Z
UID:18731-1763663400-1763668800@nanaimofamilyhistory.ca
SUMMARY:Genealogy Book Club\, Terry Hartley
DESCRIPTION:Repeated by popular demand! We’ll be studying Research Like a Pro with DNA by Diana Elder\, Nicole Dyer\, and Robin Wirthln\, and applying their methods to our own research. Each participant will choose a brick wall ancestor and work through the techniques outlined in the book to make and document progress. Along the way\, members will share updates\, receive constructive feedback\, and benefit from  guidance from both fellow participants and the facilitator. \nThe book can be purchased online available in paper or ebook. The book club sessions will run monthly on the third Thursday through to June of 2026. Register once for all of them.
URL:https://nanaimofamilyhistory.ca/event/genealogy-book-club-terry-hartley-9/
END:VEVENT
BEGIN:VEVENT
DTSTART;TZID=America/Denver:20251117T190000
DTEND;TZID=America/Denver:20251117T210000
DTSTAMP:20260422T042942
CREATED:20250107T010610Z
LAST-MODIFIED:20250904T020749Z
UID:15221-1763406000-1763413200@nanaimofamilyhistory.ca
SUMMARY:NFHS General Meeting
DESCRIPTION:Glenn Wright of Toronto\, Ontario – Last Sacrifice: Researching Canada’s War Dead 1914-1919 and 1939-1945 \nEvery November 11\, we gather at local memorials to remember those who died in service to their country in times of war. Researching Canada’s war dead whether a member of your family or community can be\, in itself\, an act of commemoration. Basic information about Canadian fatal casualties in both the \nFirst and Second World Wars is easily accessible at the Canadian Virtual War Memorial. This website incorporates the database of the Commonwealth War Graves Commission and provides the name of the soldier\, date of death\, age\, unit\, next of kin and place of burial or commemoration. In addition\, the Virtual War Memorial allows one to add information to an individual’s entry\, i.e.\, photographs\, newspaper clippings\, letters and more. In this sense\, it is a living memorial to our war dead.  \nWe are blessed with a number of diverse and informative resources\, both online and published. In this presentation\, we will explore these resources that allow us to document – and remember — those who died in either World War as fully as possible.  \n  \nThis is Zoom only meeting.
URL:https://nanaimofamilyhistory.ca/event/nfhs-general-meeting-36/
END:VEVENT
BEGIN:VEVENT
DTSTART;TZID=America/Denver:20251113T183000
DTEND;TZID=America/Denver:20251113T200000
DTSTAMP:20260422T042942
CREATED:20250904T033324Z
LAST-MODIFIED:20250904T033324Z
UID:18729-1763058600-1763064000@nanaimofamilyhistory.ca
SUMMARY:Joseph Dalby\, Apothecary\, Penny Bent
DESCRIPTION:Penny tells about some of the background information she uncovered while researching her ancestor Joseph Dalby. She wrote about Joseph and his Carminative in an earlier issue of Ancestree.
URL:https://nanaimofamilyhistory.ca/event/joseph-dalby-apothecary-penny-bent/
END:VEVENT
BEGIN:VEVENT
DTSTART;TZID=America/Denver:20251106T183000
DTEND;TZID=America/Denver:20251106T200000
DTSTAMP:20260422T042942
CREATED:20250904T033148Z
LAST-MODIFIED:20250904T033148Z
UID:18727-1762453800-1762459200@nanaimofamilyhistory.ca
SUMMARY:SOS: Searches and Strategies for Your Research Challenges\, hosted by Susan Bates\, Bronwyn Frazer
DESCRIPTION:Join us if you have a brick wall you’d like us to tackle\, or if you enjoy solving others’ puzzles\, or if you just want to hear some new strategies that might apply to your own research.\nThese sessions will be held on the first Thursday of October\, November and December.
URL:https://nanaimofamilyhistory.ca/event/sos-searches-and-strategies-for-your-research-challenges-hosted-by-susan-bates-bronwyn-frazer-2/
END:VEVENT
BEGIN:VEVENT
DTSTART;TZID=America/Denver:20251103T130000
DTEND;TZID=America/Denver:20251103T150000
DTSTAMP:20260422T042942
CREATED:20250107T010502Z
LAST-MODIFIED:20250107T010502Z
UID:15219-1762174800-1762182000@nanaimofamilyhistory.ca
SUMMARY:NFHS Executive Meeting
DESCRIPTION:
URL:https://nanaimofamilyhistory.ca/event/nfhs-executive-meeting-20/
END:VEVENT
BEGIN:VEVENT
DTSTART;TZID=America/Denver:20251030T183000
DTEND;TZID=America/Denver:20251030T200000
DTSTAMP:20260422T042942
CREATED:20250904T032952Z
LAST-MODIFIED:20250904T032952Z
UID:18725-1761849000-1761854400@nanaimofamilyhistory.ca
SUMMARY:DNA Clusters\, Aleda Spring
DESCRIPTION:Aleda will describe what Clusters are\, and how they can be used to help identify your DNA\nmatches.
URL:https://nanaimofamilyhistory.ca/event/dna-clusters-aleda-spring/
END:VEVENT
BEGIN:VEVENT
DTSTART;TZID=America/Denver:20251030T100000
DTEND;TZID=America/Denver:20251030T120000
DTSTAMP:20260422T042942
CREATED:20250905T164743Z
LAST-MODIFIED:20250905T164743Z
UID:18745-1761818400-1761825600@nanaimofamilyhistory.ca
SUMMARY:Coffee Club
DESCRIPTION:Come join our large table for fun and interesting conversation. Held on the last Thursday of the month\, 10:00 am to 12 noon at Smitty’s\, Rock City\, 2980 Island Highway\, Nanaimo. We send reminder emails about a week ahead of time and ask for RSVP’s to provide Smitty’s with a number to set up for.
URL:https://nanaimofamilyhistory.ca/event/coffee-club-2/
END:VEVENT
BEGIN:VEVENT
DTSTART;TZID=America/Denver:20251023T183000
DTEND;TZID=America/Denver:20251023T200000
DTSTAMP:20260422T042942
CREATED:20250904T032824Z
LAST-MODIFIED:20250904T032824Z
UID:18723-1761244200-1761249600@nanaimofamilyhistory.ca
SUMMARY:Je Me Souviens\, Ruth Stewart
DESCRIPTION:I have been researching my pre-1700 Quebec ancestors. Join me as I trace their routes from France to the settlements of Quebec\, Sainte-Foy and Ville-Marie in New France.
URL:https://nanaimofamilyhistory.ca/event/je-me-souviens-ruth-stewart/
END:VEVENT
BEGIN:VEVENT
DTSTART;TZID=America/Denver:20251020T190000
DTEND;TZID=America/Denver:20251020T210000
DTSTAMP:20260422T042942
CREATED:20250107T010410Z
LAST-MODIFIED:20250904T020529Z
UID:15217-1760986800-1760994000@nanaimofamilyhistory.ca
SUMMARY:NFHS General Meeting
DESCRIPTION:Dave Obee of Victoria\, BC – “Every Source Matters: Using a variety of clues to find distant\nfamily members” \nDave Obee is editor and publisher of the Times Colonist newspaper in Victoria\, B.C. He has worked as a journalist in British Columbia and Alberta since 1972. He also finds time to maintain a terrific\, information packed website covering Canadian and European links that is well worth a look. You will be impressed. https://www.cangenealogy.com/ \nThis is a Hybrid meeting.
URL:https://nanaimofamilyhistory.ca/event/nfhs-general-meeting-17/
END:VEVENT
BEGIN:VEVENT
DTSTART;TZID=America/Denver:20251016T183000
DTEND;TZID=America/Denver:20251016T200000
DTSTAMP:20260422T042942
CREATED:20250904T032523Z
LAST-MODIFIED:20250904T032523Z
UID:18721-1760639400-1760644800@nanaimofamilyhistory.ca
SUMMARY:Genealogy Book Club\, Terry Hartley
DESCRIPTION:We’re studying Research Like a Pro with DNA by Diana Elder\, Nicole Dyer\, and Robin Wirthln. \nRepeated by popular demand! We’ll be studying Research Like a Pro with DNA by Diana Elder\, Nicole Dyer\, and Robin Wirthln\, and applying their methods to our own research. Each participant will choose a brick wall ancestor and work through the techniques outlined in the book to make and document progress. Along the way\, members will share updates\, receive constructive feedback\, and benefit from  guidance from both fellow participants and the facilitator. \nThe book can be purchased online available in paper or ebook. The book club sessions will run monthly on the third Thursday through to June of 2026. Register once for all of them.
URL:https://nanaimofamilyhistory.ca/event/genealogy-book-club-terry-hartley-8/
END:VEVENT
BEGIN:VEVENT
DTSTART;TZID=America/Denver:20251009T183000
DTEND;TZID=America/Denver:20251009T200000
DTSTAMP:20260422T042942
CREATED:20250904T032026Z
LAST-MODIFIED:20250904T032026Z
UID:18717-1760034600-1760040000@nanaimofamilyhistory.ca
SUMMARY:“A Mouse at Moresby”\, Tony Green
DESCRIPTION:Tony will talk about his father’s experiences as a photographer for the Royal Australian Air\nForce in New Guinea in WW2. He’ll also describe the lengthy development of the book and\nexplain the curious title. The book by Big Sky publishing of Australia is now for sale online and will be released October 1st. www.bigskypublishing.com.au/books/a-mouse-at-moresby/
URL:https://nanaimofamilyhistory.ca/event/a-mouse-at-moresby-tony-green/
END:VEVENT
BEGIN:VEVENT
DTSTART;TZID=America/Denver:20251006T130000
DTEND;TZID=America/Denver:20251006T150000
DTSTAMP:20260422T042942
CREATED:20250107T010305Z
LAST-MODIFIED:20250107T010305Z
UID:15215-1759755600-1759762800@nanaimofamilyhistory.ca
SUMMARY:NFHS Executive Meeting
DESCRIPTION:
URL:https://nanaimofamilyhistory.ca/event/nfhs-executive-meeting-19/
END:VEVENT
BEGIN:VEVENT
DTSTART;TZID=America/Denver:20251002T183000
DTEND;TZID=America/Denver:20251002T200000
DTSTAMP:20260422T042942
CREATED:20250904T031817Z
LAST-MODIFIED:20250904T032204Z
UID:18715-1759429800-1759435200@nanaimofamilyhistory.ca
SUMMARY:SOS: Searches and Strategies for Your Research Challenges\, hosted by Susan Bates\, Bronwyn Frazer
DESCRIPTION:Join us if you have a brick wall you’d like us to tackle\, or if you enjoy solving others’ puzzles\, or if you just want to hear some new strategies that might apply to your own research. \nThese sessions will be held on the first Thursday of October\, November and December.
URL:https://nanaimofamilyhistory.ca/event/sos-searches-and-strategies-for-your-research-challenges-hosted-by-susan-bates-bronwyn-frazer/
END:VEVENT
BEGIN:VEVENT
DTSTART;TZID=America/Denver:20250925T100000
DTEND;TZID=America/Denver:20250925T120000
DTSTAMP:20260422T042942
CREATED:20250905T164655Z
LAST-MODIFIED:20250905T164655Z
UID:18743-1758794400-1758801600@nanaimofamilyhistory.ca
SUMMARY:Coffee Club
DESCRIPTION:Come join our large table for fun and interesting conversation. Held on the last Thursday of the month\, 10:00 am to 12 noon at Smitty’s\, Rock City\, 2980 Island Highway\, Nanaimo. We send reminder emails about a week ahead of time and ask for RSVP’s to provide Smitty’s with a number to set up for.
URL:https://nanaimofamilyhistory.ca/event/coffee-club/
END:VEVENT
BEGIN:VEVENT
DTSTART;TZID=America/Denver:20250918T183000
DTEND;TZID=America/Denver:20250918T200000
DTSTAMP:20260422T042942
CREATED:20250904T031628Z
LAST-MODIFIED:20250904T032115Z
UID:18713-1758220200-1758225600@nanaimofamilyhistory.ca
SUMMARY:Genealogy Book Club\, Terry Hartley
DESCRIPTION:Repeated by popular demand! We’ll be studying Research Like a Pro with DNA by Diana Elder\, Nicole Dyer\, and Robin Wirthln\, and applying their methods to our own research. Each participant will choose a brick wall ancestor and work through the techniques outlined in the book to make and document progress. Along the way\, members will share updates\, receive constructive feedback\, and benefit from  guidance from both fellow participants and the facilitator. \nThe book can be purchased online available in paper or ebook. The book club sessions will run monthly on the third Thursday through to June of 2026. Register once for all of them.
URL:https://nanaimofamilyhistory.ca/event/genealogy-book-club-terry-hartley-7/
END:VEVENT
BEGIN:VEVENT
DTSTART;TZID=America/Denver:20250915T190000
DTEND;TZID=America/Denver:20250915T210000
DTSTAMP:20260422T042942
CREATED:20250107T010205Z
LAST-MODIFIED:20250904T020053Z
UID:15213-1757962800-1757970000@nanaimofamilyhistory.ca
SUMMARY:NFHS General Meeting
DESCRIPTION:Terry Hartley of Nanaimo\, BC (member) – topic to be determined. \nDNA testing for genealogy offers more than just ethnicity estimates —it uncovers a personal archive of inherited information waiting to be explored. In this beginner-friendly session\, we’ll review the three main types of DNA used in family history research: autosomal\, Y-DNA\, and mitochondrial DNA. You’ll learn how each one can help confirm relationships\, break through brick walls\, and reveal unexpected family stories.\nReal-life examples will be used to illustrate how DNA can support\, and sometimes challenge\, your paper trail. We’ll also touch on important ethical and privacy considerations when working with your genetic data. \nThis is a Hybrid meeting. \n 
URL:https://nanaimofamilyhistory.ca/event/nfhs-general-meeting-16/
END:VEVENT
BEGIN:VEVENT
DTSTART;TZID=America/Denver:20250908T130000
DTEND;TZID=America/Denver:20250908T150000
DTSTAMP:20260422T042942
CREATED:20250107T010049Z
LAST-MODIFIED:20250107T010049Z
UID:15211-1757336400-1757343600@nanaimofamilyhistory.ca
SUMMARY:NFHS Executive Meeting
DESCRIPTION:
URL:https://nanaimofamilyhistory.ca/event/nfhs-executive-meeting-18/
END:VEVENT
BEGIN:VEVENT
DTSTART;TZID=America/Denver:20250616T190000
DTEND;TZID=America/Denver:20250616T210000
DTSTAMP:20260422T042942
CREATED:20250107T011743Z
LAST-MODIFIED:20250411T012117Z
UID:15231-1750100400-1750107600@nanaimofamilyhistory.ca
SUMMARY:NFHS General Meeting
DESCRIPTION:Gordon L. McBean of Winnipeg\, Manitoba \nGordon will present “They Came Through Ontario”.  He will be reporting on the various research methods and tools he has used to obtain favourable results. \nThis is a Hybrid meeting.
URL:https://nanaimofamilyhistory.ca/event/nfhs-general-meeting-15/
LOCATION:Beban Park Social Centre\, Room 8
END:VEVENT
BEGIN:VEVENT
DTSTART;TZID=America/Denver:20250612T183000
DTEND;TZID=America/Denver:20250612T200000
DTSTAMP:20260422T042942
CREATED:20250108T235554Z
LAST-MODIFIED:20250317T002141Z
UID:15550-1749753000-1749758400@nanaimofamilyhistory.ca
SUMMARY:Genealogy Book Club
DESCRIPTION:Genealogy Book Club\, Terry Hartley \nWe’re studying “Research Like a Pro with DNA” by Diana Elder\, Nicole Dyer\, and Robin Wirthln. The discussion at the June session will be on Chapter 12. \nIt’s not necessary to register again if you’ve registered for any session of the Book Club previously. 
URL:https://nanaimofamilyhistory.ca/event/genealogy-book-club-18/
END:VEVENT
BEGIN:VEVENT
DTSTART;TZID=America/Denver:20250605T183000
DTEND;TZID=America/Denver:20250605T200000
DTSTAMP:20260422T042942
CREATED:20250108T235043Z
LAST-MODIFIED:20250317T002023Z
UID:15543-1749148200-1749153600@nanaimofamilyhistory.ca
SUMMARY:Researching in the Location of Your Choosing
DESCRIPTION:Researching in <location TBD>\, hosted by Susan Bates\, Bronwyn Fraser \nThe geographic focus for June will be determined at the May meeting.
URL:https://nanaimofamilyhistory.ca/event/researching-in-the-location-of-your-choosing-3/
END:VEVENT
BEGIN:VEVENT
DTSTART;TZID=America/Denver:20250602T130000
DTEND;TZID=America/Denver:20250602T150000
DTSTAMP:20260422T042942
CREATED:20250107T005843Z
LAST-MODIFIED:20250107T005843Z
UID:15207-1748869200-1748876400@nanaimofamilyhistory.ca
SUMMARY:NFHS Executive Meeting
DESCRIPTION:
URL:https://nanaimofamilyhistory.ca/event/nfhs-executive-meeting-17/
END:VEVENT
BEGIN:VEVENT
DTSTART;TZID=America/Denver:20250522T183000
DTEND;TZID=America/Denver:20250522T200000
DTSTAMP:20260422T042942
CREATED:20250317T001850Z
LAST-MODIFIED:20250317T001850Z
UID:18668-1747938600-1747944000@nanaimofamilyhistory.ca
SUMMARY:Computer Talk for Technophobes
DESCRIPTION:Computer Talk for Technophobes\, hosted by Susan Bates
URL:https://nanaimofamilyhistory.ca/event/computer-talk-for-technophobes-3/
END:VEVENT
BEGIN:VEVENT
DTSTART;TZID=America/Denver:20250512T190000
DTEND;TZID=America/Denver:20250512T210000
DTSTAMP:20260422T042942
CREATED:20250107T011614Z
LAST-MODIFIED:20250203T033659Z
UID:15229-1747076400-1747083600@nanaimofamilyhistory.ca
SUMMARY:NFHS General Meeting
DESCRIPTION:Marianne Rasmus of Ottawa\, Ontario \n“Ella’s Story: Expanding that empty branch on the family tree.” \nIt is the story of Marianne’s husband’s Scottish War-Bride grandmother who had been adopted and how they used DNA to determine her parentage. \n  \nThis is a Zoom presentation only.
URL:https://nanaimofamilyhistory.ca/event/nfhs-general-meeting-14/
END:VEVENT
BEGIN:VEVENT
DTSTART;TZID=America/Denver:20250508T183000
DTEND;TZID=America/Denver:20250508T200000
DTSTAMP:20260422T042942
CREATED:20250108T235459Z
LAST-MODIFIED:20250317T001653Z
UID:15548-1746729000-1746734400@nanaimofamilyhistory.ca
SUMMARY:Genealogy Book Club
DESCRIPTION:Genealogy Book Club\, Terry Hartley \nWe’re studying “Research Like a Pro with DNA” by Diana Elder\, Nicole Dyer\, and Robin Wirthln. The discussion at the May session will be on Chapter 11.  \nIt’s not necessary to register again if you’ve registered for any session of the Book Club previously. 
URL:https://nanaimofamilyhistory.ca/event/genealogy-book-club-17/
END:VEVENT
END:VCALENDAR