BEGIN:VCALENDAR
VERSION:2.0
PRODID:-//Nanaimo Family History Society - ECPv6.15.20//NONSGML v1.0//EN
CALSCALE:GREGORIAN
METHOD:PUBLISH
X-WR-CALNAME:Nanaimo Family History Society
X-ORIGINAL-URL:https://nanaimofamilyhistory.ca
X-WR-CALDESC:Events for Nanaimo Family History Society
REFRESH-INTERVAL;VALUE=DURATION:PT1H
X-Robots-Tag:noindex
X-PUBLISHED-TTL:PT1H
BEGIN:VTIMEZONE
TZID:America/Denver
BEGIN:DAYLIGHT
TZOFFSETFROM:-0700
TZOFFSETTO:-0600
TZNAME:MDT
DTSTART:20210314T090000
END:DAYLIGHT
BEGIN:STANDARD
TZOFFSETFROM:-0600
TZOFFSETTO:-0700
TZNAME:MST
DTSTART:20211107T080000
END:STANDARD
BEGIN:DAYLIGHT
TZOFFSETFROM:-0700
TZOFFSETTO:-0600
TZNAME:MDT
DTSTART:20220313T090000
END:DAYLIGHT
BEGIN:STANDARD
TZOFFSETFROM:-0600
TZOFFSETTO:-0700
TZNAME:MST
DTSTART:20221106T080000
END:STANDARD
BEGIN:DAYLIGHT
TZOFFSETFROM:-0700
TZOFFSETTO:-0600
TZNAME:MDT
DTSTART:20230312T090000
END:DAYLIGHT
BEGIN:STANDARD
TZOFFSETFROM:-0600
TZOFFSETTO:-0700
TZNAME:MST
DTSTART:20231105T080000
END:STANDARD
BEGIN:DAYLIGHT
TZOFFSETFROM:-0700
TZOFFSETTO:-0600
TZNAME:MDT
DTSTART:20240310T090000
END:DAYLIGHT
BEGIN:STANDARD
TZOFFSETFROM:-0600
TZOFFSETTO:-0700
TZNAME:MST
DTSTART:20241103T080000
END:STANDARD
END:VTIMEZONE
BEGIN:VEVENT
DTSTART;TZID=America/Denver:20230206T183000
DTEND;TZID=America/Denver:20230206T193000
DTSTAMP:20260423T042910
CREATED:20221206T200748Z
LAST-MODIFIED:20221206T200748Z
UID:8061-1675708200-1675711800@nanaimofamilyhistory.ca
SUMMARY:NFHS Executive Meeting
DESCRIPTION:
URL:https://nanaimofamilyhistory.ca/event/nfhs-executive-meeting-32/
END:VEVENT
BEGIN:VEVENT
DTSTART;TZID=America/Denver:20230202T183000
DTEND;TZID=America/Denver:20230202T200000
DTSTAMP:20260423T042910
CREATED:20221210T234431Z
LAST-MODIFIED:20221210T234431Z
UID:8127-1675362600-1675368000@nanaimofamilyhistory.ca
SUMMARY:WikiTree
DESCRIPTION:Are you concerned that your genealogical research might get lost through fire\, flood and other disaster? Do you want your family to have easy access to your research now and for generations to come?  Join Barbara Winter as she explores keeping your work as digitally preserved as possible using Wikitree.
URL:https://nanaimofamilyhistory.ca/event/wikitree/
END:VEVENT
BEGIN:VEVENT
DTSTART;TZID=America/Denver:20230126T183000
DTEND;TZID=America/Denver:20230126T200000
DTSTAMP:20260423T042910
CREATED:20221210T234339Z
LAST-MODIFIED:20221210T234339Z
UID:8125-1674757800-1674763200@nanaimofamilyhistory.ca
SUMMARY:Brick Wall Busting
DESCRIPTION:Do you have a dead-end on your tree that you’re trying to break through? Please bring your problem to this session along with the ideas you’ve already tried. Donna MacIver will facilitate a discussion amongst the participants to brainstorm potential solutions.
URL:https://nanaimofamilyhistory.ca/event/brick-wall-busting/
END:VEVENT
BEGIN:VEVENT
DTSTART;TZID=America/Denver:20230119T183000
DTEND;TZID=America/Denver:20230119T200000
DTSTAMP:20260423T042910
CREATED:20221210T234253Z
LAST-MODIFIED:20221210T234253Z
UID:8123-1674153000-1674158400@nanaimofamilyhistory.ca
SUMMARY:Writer’s Group
DESCRIPTION:For the spring sessions\, January 19 to June 15\, the writing/editing group will move into some more complex strategies to consider when editing our work. \nThese will include character development\, pace and momentum\, plot and structure\, and suspense and tension. We will also review showing and telling and have a look at transitions\, both between paragraphs and chapters. \nIn session #1\, we will decide as a group\, which strategies we want to spend more or less time working on\, and if there are others in which you would be interested…and I hope we will discuss how these editing skills are all applicable to writing your family history.
URL:https://nanaimofamilyhistory.ca/event/writers-group/
END:VEVENT
BEGIN:VEVENT
DTSTART;TZID=America/Denver:20230116T190000
DTEND;TZID=America/Denver:20230116T210000
DTSTAMP:20260423T042910
CREATED:20221206T195438Z
LAST-MODIFIED:20230110T042515Z
UID:8038-1673895600-1673902800@nanaimofamilyhistory.ca
SUMMARY:NFHS General Meeting
DESCRIPTION:Dave Obee of Victoria BC \n“Think you have it Tough?  Try research in Eastern Europe.”  Dave will also give several ideas that could be applied anywhere in the world. \n  \nby Zoom only
URL:https://nanaimofamilyhistory.ca/event/nfhs-general-meeting-27/
END:VEVENT
BEGIN:VEVENT
DTSTART;TZID=America/Denver:20230112T183000
DTEND;TZID=America/Denver:20230112T200000
DTSTAMP:20260423T042910
CREATED:20221210T234147Z
LAST-MODIFIED:20221210T234147Z
UID:8121-1673548200-1673553600@nanaimofamilyhistory.ca
SUMMARY:Genealogy Book Club
DESCRIPTION:We’re working through the book called The Family Tree Guide to DNA Testing and Genetic Genealogy\, Second Edition\, by Blaine Bettinger. Blaine writes about DNA in easily understandable terms\, making this the ideal book for those beginning their DNA journey\, while still tackling complex subjects that are of benefit to more advanced practitioners. For January\, we will be reading Chapter 5 on Y-DNA testing. You can join us anytime.
URL:https://nanaimofamilyhistory.ca/event/genealogy-book-club/
END:VEVENT
BEGIN:VEVENT
DTSTART;TZID=America/Denver:20230102T183000
DTEND;TZID=America/Denver:20230102T193000
DTSTAMP:20260423T042910
CREATED:20221206T200721Z
LAST-MODIFIED:20221206T200721Z
UID:8059-1672684200-1672687800@nanaimofamilyhistory.ca
SUMMARY:NFHS Executive Meeting
DESCRIPTION:
URL:https://nanaimofamilyhistory.ca/event/nfhs-executive-meeting-31/
END:VEVENT
BEGIN:VEVENT
DTSTART;TZID=America/Denver:20221212T140000
DTEND;TZID=America/Denver:20221212T163000
DTSTAMP:20260423T042910
CREATED:20220125T010042Z
LAST-MODIFIED:20220125T010042Z
UID:7168-1670853600-1670862600@nanaimofamilyhistory.ca
SUMMARY:NFHS Social
DESCRIPTION:
URL:https://nanaimofamilyhistory.ca/event/nfhs-social-2/
END:VEVENT
BEGIN:VEVENT
DTSTART;TZID=America/Denver:20221208T183000
DTEND;TZID=America/Denver:20221208T200000
DTSTAMP:20260423T042910
CREATED:20220914T010853Z
LAST-MODIFIED:20220914T010853Z
UID:7827-1670524200-1670529600@nanaimofamilyhistory.ca
SUMMARY:Genealogy Book Club\, Terry Hartley
DESCRIPTION:We are working through the book\, The Family Tree Guide to DNA Testing and Genetic Genealogy\, Second Edition\, by Blaine Bettinger. Blaine writes about DNA in easily understandable terms\, making this the ideal book for those beginning their DNA journey\, while still tackling complex subjects that are of benefit to more advanced practitioners. You can join us anytime. \nRegister in advance for this meeting.
URL:https://nanaimofamilyhistory.ca/event/genealogy-book-club-terry-hartley-3/
END:VEVENT
BEGIN:VEVENT
DTSTART;TZID=America/Denver:20221206T080000
DTEND;TZID=America/Denver:20221206T170000
DTSTAMP:20260423T042910
CREATED:20221206T195820Z
LAST-MODIFIED:20221206T195820Z
UID:8043-1670313600-1670346000@nanaimofamilyhistory.ca
SUMMARY:NFHS General Meeting
DESCRIPTION:Dave Obee of Victoria\, BC – unknown topic at this time \n  \nby Zoom only
URL:https://nanaimofamilyhistory.ca/event/nfhs-general-meeting-29/
END:VEVENT
BEGIN:VEVENT
DTSTART;TZID=America/Denver:20221206T080000
DTEND;TZID=America/Denver:20221206T170000
DTSTAMP:20260423T042910
CREATED:20221206T195634Z
LAST-MODIFIED:20221206T195634Z
UID:8040-1670313600-1670346000@nanaimofamilyhistory.ca
SUMMARY:NFHS General Meeting
DESCRIPTION:Annual General Meeting followed by AHA moments by members \n  \nby Zoom only
URL:https://nanaimofamilyhistory.ca/event/nfhs-general-meeting-28/
END:VEVENT
BEGIN:VEVENT
DTSTART;TZID=America/Denver:20221205T190000
DTEND;TZID=America/Denver:20221205T200000
DTSTAMP:20260423T042910
CREATED:20220125T005329Z
LAST-MODIFIED:20220125T005329Z
UID:7150-1670266800-1670270400@nanaimofamilyhistory.ca
SUMMARY:NFHS Executive Meeting
DESCRIPTION:
URL:https://nanaimofamilyhistory.ca/event/nfhs-executive-meeting-30/
END:VEVENT
BEGIN:VEVENT
DTSTART;TZID=America/Denver:20221201T183000
DTEND;TZID=America/Denver:20221201T200000
DTSTAMP:20260423T042910
CREATED:20220914T010721Z
LAST-MODIFIED:20220914T010747Z
UID:7825-1669919400-1669924800@nanaimofamilyhistory.ca
SUMMARY:Introductory DNA\, Susan Bates
DESCRIPTION:Are you making good use of Ancestry Thru-Lines to identify your DNA matches and confirm your family tree? Join Susan Bates as she walks you through the use of Ancestry Thru-Lines\, including how the feature works\, how to attach your family tree to your DNA\, and how to evaluate the relationship hints. \nRegister in advance for this meeting.
URL:https://nanaimofamilyhistory.ca/event/introductory-dna-susan-bates-2/
END:VEVENT
BEGIN:VEVENT
DTSTART;TZID=America/Denver:20221124T183000
DTEND;TZID=America/Denver:20221124T200000
DTSTAMP:20260423T042910
CREATED:20220914T010609Z
LAST-MODIFIED:20220914T010609Z
UID:7823-1669314600-1669320000@nanaimofamilyhistory.ca
SUMMARY:Brick Wall Busting\, Donna MacIver
DESCRIPTION:Do you have a dead-end on your tree that you’re trying to break through? Please bring your problem to this session along with the ideas you’ve already tried. Donna MacIver will facilitate a discussion amongst the participants to brainstorm potential solutions. \nRegister in advance for this meeting.
URL:https://nanaimofamilyhistory.ca/event/brick-wall-busting-donna-maciver-2/
END:VEVENT
BEGIN:VEVENT
DTSTART;TZID=America/Denver:20221121T190000
DTEND;TZID=America/Denver:20221121T210000
DTSTAMP:20260423T042910
CREATED:20220125T005951Z
LAST-MODIFIED:20220925T203326Z
UID:7166-1669057200-1669064400@nanaimofamilyhistory.ca
SUMMARY:NFHS General Meeting
DESCRIPTION:Glenn Wright of Ottawa\, Ontario by Zoom only \nGlenn’s presentation will be on exploring these resources that allow us to document — and remember — those who died in either the First World War or the Second World War.
URL:https://nanaimofamilyhistory.ca/event/nfhs-general-meeting-26/
END:VEVENT
BEGIN:VEVENT
DTSTART;TZID=America/Denver:20221117T183000
DTEND;TZID=America/Denver:20221117T200000
DTSTAMP:20260423T042910
CREATED:20220914T010440Z
LAST-MODIFIED:20220914T010440Z
UID:7821-1668709800-1668715200@nanaimofamilyhistory.ca
SUMMARY:Writer’s Group\, Helen Webster
DESCRIPTION:There are strategies to assist you in the editing process\, ranging from simple to complex. Over the next months we will review those we already know\, learn new skills\, and practice applying them all to our work. In the process\, we will help each other improve our writing. \nRegister in advance for this meeting.
URL:https://nanaimofamilyhistory.ca/event/writers-group-helen-webster-9/
END:VEVENT
BEGIN:VEVENT
DTSTART;TZID=America/Denver:20221110T183000
DTEND;TZID=America/Denver:20221110T200000
DTSTAMP:20260423T042910
CREATED:20220914T010322Z
LAST-MODIFIED:20220914T010322Z
UID:7819-1668105000-1668110400@nanaimofamilyhistory.ca
SUMMARY:Genealogy Book Club\, Terry Hartley
DESCRIPTION:We are working through the book\, The Family Tree Guide to DNA Testing and Genetic Genealogy\, Second Edition\, by Blaine Bettinger. Blaine writes about DNA in easily understandable terms\, making this the ideal book for those beginning their DNA journey\, while still tackling complex subjects that are of benefit to more advanced practitioners. You can join us anytime. \nRegister in advance for this meeting.
URL:https://nanaimofamilyhistory.ca/event/genealogy-book-club-terry-hartley-2/
END:VEVENT
BEGIN:VEVENT
DTSTART;TZID=America/Denver:20221107T190000
DTEND;TZID=America/Denver:20221107T200000
DTSTAMP:20260423T042910
CREATED:20220125T005253Z
LAST-MODIFIED:20220125T005253Z
UID:7148-1667847600-1667851200@nanaimofamilyhistory.ca
SUMMARY:NFHS Executive Meeting
DESCRIPTION:
URL:https://nanaimofamilyhistory.ca/event/nfhs-executive-meeting-29/
END:VEVENT
BEGIN:VEVENT
DTSTART;TZID=America/Denver:20221103T183000
DTEND;TZID=America/Denver:20221103T200000
DTSTAMP:20260423T042910
CREATED:20220914T010206Z
LAST-MODIFIED:20220914T010206Z
UID:7817-1667500200-1667505600@nanaimofamilyhistory.ca
SUMMARY:Writing a Genealogy Research Objective\, Bronwyn Frazer
DESCRIPTION:A good research objective helps you to clarify your goals\, focus your research\, and to be more productive. Join Bronwyn Frazer in this hands-on skills workshop to learn how to write an effective genealogy research objective. \nRegister in advance for this meeting.
URL:https://nanaimofamilyhistory.ca/event/writing-a-genealogy-research-objective-bronwyn-frazer/
END:VEVENT
BEGIN:VEVENT
DTSTART;TZID=America/Denver:20221027T183000
DTEND;TZID=America/Denver:20221027T200000
DTSTAMP:20260423T042910
CREATED:20220914T010053Z
LAST-MODIFIED:20220914T010053Z
UID:7815-1666895400-1666900800@nanaimofamilyhistory.ca
SUMMARY:Creating a Family History Book\, Lorie Heshka
DESCRIPTION:Join Lorie Heshka as she tells us about what she learned when creating a family history book for a family reunion. You’ll learn about using MS Word for a family history project\, including how to lay-out photos and footnotes. \nRegister in advance for this meeting.
URL:https://nanaimofamilyhistory.ca/event/creating-a-family-history-book-lorie-heshka/
END:VEVENT
BEGIN:VEVENT
DTSTART;TZID=America/Denver:20221020T183000
DTEND;TZID=America/Denver:20221020T200000
DTSTAMP:20260423T042910
CREATED:20220914T005939Z
LAST-MODIFIED:20220914T005939Z
UID:7813-1666290600-1666296000@nanaimofamilyhistory.ca
SUMMARY:Writer’s Group\, Helen Webster
DESCRIPTION:There are strategies to assist you in the editing process\, ranging from simple to complex. Over the next months we will review those we already know\, learn new skills\, and practice applying them all to our work. In the process\, we will help each other improve our writing. \nRegister in advance for this meeting.
URL:https://nanaimofamilyhistory.ca/event/writers-group-helen-webster-8/
END:VEVENT
BEGIN:VEVENT
DTSTART;TZID=America/Denver:20221017T190000
DTEND;TZID=America/Denver:20221017T210000
DTSTAMP:20260423T042910
CREATED:20220125T005908Z
LAST-MODIFIED:20220925T203107Z
UID:7164-1666033200-1666040400@nanaimofamilyhistory.ca
SUMMARY:NFHS General Meeting
DESCRIPTION:Eunice Robinson of Vancouver\, BC – by Zoom \nEunice will speak on: “Where Should I Put My Family History?” \nOne of the biggest dilemmas facing family historians is what to do with my research when I am no longer here.  What format?  Who to leave it to?  Public or private?  These questions and more will be answered during this session/talk by Eunice. \n(Note: Eunice gave this talk at the Campbell River Genealogy Society meeting on November 7\, 2020) \nThis will be a HYBRID  meeting in person at Beban Park and by Zoom
URL:https://nanaimofamilyhistory.ca/event/nfhs-general-meeting-25/
END:VEVENT
BEGIN:VEVENT
DTSTART;TZID=America/Denver:20221013T183000
DTEND;TZID=America/Denver:20221013T200000
DTSTAMP:20260423T042910
CREATED:20220914T005806Z
LAST-MODIFIED:20220914T005806Z
UID:7811-1665685800-1665691200@nanaimofamilyhistory.ca
SUMMARY:Genealogy Book Club\, Terry Hartley
DESCRIPTION:We’re starting a book club for genealogy! The book we will be working through is called The Family Tree Guide to DNA Testing and Genetic Genealogy\, Second Edition\, by Blaine Bettinger. Blaine writes about DNA in easily understandable terms\, making this the ideal book for those beginning their DNA journey\, while still tackling complex subjects that are of benefit to more advanced practitioners. Please read Chapter One of the book before the first session. \nRegister in advance for this meeting.
URL:https://nanaimofamilyhistory.ca/event/genealogy-book-club-terry-hartley/
END:VEVENT
BEGIN:VEVENT
DTSTART;TZID=America/Denver:20221006T183000
DTEND;TZID=America/Denver:20221006T200000
DTSTAMP:20260423T042910
CREATED:20220914T005523Z
LAST-MODIFIED:20220914T005523Z
UID:7809-1665081000-1665086400@nanaimofamilyhistory.ca
SUMMARY:Introductory DNA\, Susan Bates
DESCRIPTION:Join Susan Bates as she shares some strategies for answering two basic DNA questions:  \n\nWho is this person in my match list?\nCan I find a DNA match in my list that corroborates a relationship I’m uncertain of?”\n\nRegister in advance for this meeting.
URL:https://nanaimofamilyhistory.ca/event/introductory-dna-susan-bates/
END:VEVENT
BEGIN:VEVENT
DTSTART;TZID=America/Denver:20221003T190000
DTEND;TZID=America/Denver:20221003T200000
DTSTAMP:20260423T042910
CREATED:20220125T005209Z
LAST-MODIFIED:20220125T005209Z
UID:7146-1664823600-1664827200@nanaimofamilyhistory.ca
SUMMARY:NFHS Executive Meeting
DESCRIPTION:
URL:https://nanaimofamilyhistory.ca/event/nfhs-executive-meeting-28/
END:VEVENT
BEGIN:VEVENT
DTSTART;TZID=America/Denver:20220929T183000
DTEND;TZID=America/Denver:20220929T200000
DTSTAMP:20260423T042910
CREATED:20220914T005241Z
LAST-MODIFIED:20220914T005241Z
UID:7807-1664476200-1664481600@nanaimofamilyhistory.ca
SUMMARY:Brick Wall Busting\, Donna MacIver
DESCRIPTION:Do you have a dead-end on your tree that you’re trying to break through? Please bring your problem to this session along with the ideas you’ve already tried. Donna MacIver will facilitate a discussion amongst the participants to brainstorm potential solutions. \nRegister in advance for this meeting.
URL:https://nanaimofamilyhistory.ca/event/brick-wall-busting-donna-maciver/
END:VEVENT
BEGIN:VEVENT
DTSTART;TZID=America/Denver:20220922T183000
DTEND;TZID=America/Denver:20220922T200000
DTSTAMP:20260423T042910
CREATED:20220914T005114Z
LAST-MODIFIED:20220914T005114Z
UID:7805-1663871400-1663876800@nanaimofamilyhistory.ca
SUMMARY:Writer’s Group\, Helen Webster
DESCRIPTION:There are strategies to assist you in the editing process\, ranging from simple to complex. Over the next months we will review those we already know\, learn new skills\, and practice applying them all to our work. In the process\, we will help each other improve our writing. \nRegister in advance for this meeting.
URL:https://nanaimofamilyhistory.ca/event/writers-group-helen-webster-7/
END:VEVENT
BEGIN:VEVENT
DTSTART;TZID=America/Denver:20220919T190000
DTEND;TZID=America/Denver:20220919T210000
DTSTAMP:20260423T042910
CREATED:20220125T005834Z
LAST-MODIFIED:20220421T024006Z
UID:7162-1663614000-1663621200@nanaimofamilyhistory.ca
SUMMARY:NFHS General Meeting
DESCRIPTION:Bronwyn Frazer of Nanaimo\, BC \nThe first step in the Genealogical Proof Standard is a thorough and reasonably exhaustive search for sources.  But what does this mean?  How much is exhaustive or reasonable?  Join Bronwyn as she traces her research journey uncovering how her Stone family turned into Balls and back into Stone again over the course of three generations and across two continents.  You can be the judge if it has been exhaustive and thorough enough.  Bronwyn Frazer P.L.C.G.S holds a certificate in professional genealogy from the National Institute of Genealogy and has been interested in family history “all her life”.  She currently teaches “Genealogy 101” at Elder College\, guides clients on their own genealogy research\, and serves on the board of our very own Nanaimo Family. \n 
URL:https://nanaimofamilyhistory.ca/event/nfhs-general-meeting-24/
END:VEVENT
BEGIN:VEVENT
DTSTART;TZID=America/Denver:20220905T190000
DTEND;TZID=America/Denver:20220905T200000
DTSTAMP:20260423T042910
CREATED:20220125T005129Z
LAST-MODIFIED:20220125T005129Z
UID:7144-1662404400-1662408000@nanaimofamilyhistory.ca
SUMMARY:NFHS Executive Meeting
DESCRIPTION:
URL:https://nanaimofamilyhistory.ca/event/nfhs-executive-meeting-27/
END:VEVENT
BEGIN:VEVENT
DTSTART;TZID=America/Denver:20220620T190000
DTEND;TZID=America/Denver:20220620T210000
DTSTAMP:20260423T042910
CREATED:20220125T005748Z
LAST-MODIFIED:20220404T180203Z
UID:7160-1655751600-1655758800@nanaimofamilyhistory.ca
SUMMARY:NFHS General Meeting
DESCRIPTION:Dave Obee of Victoria\, BC\,  – will speak on “Genealogy by Google.”   \nGoogle is an invaluable tool for  genealogists.  It pays to know some tricks\, including effective filtering and search strategies.  Don’t forget Google Books\, Google Maps\, Google Images and the historic newspaper collection.  You will quickly discover that a simple search simply scratches the surface of what is available to genealogists. \n  \nby Zoom
URL:https://nanaimofamilyhistory.ca/event/nfhs-general-meeting-23/
END:VEVENT
END:VCALENDAR