BEGIN:VCALENDAR
VERSION:2.0
PRODID:-//Nanaimo Family History Society - ECPv6.15.20//NONSGML v1.0//EN
CALSCALE:GREGORIAN
METHOD:PUBLISH
X-WR-CALNAME:Nanaimo Family History Society
X-ORIGINAL-URL:https://nanaimofamilyhistory.ca
X-WR-CALDESC:Events for Nanaimo Family History Society
REFRESH-INTERVAL;VALUE=DURATION:PT1H
X-Robots-Tag:noindex
X-PUBLISHED-TTL:PT1H
BEGIN:VTIMEZONE
TZID:America/Denver
BEGIN:DAYLIGHT
TZOFFSETFROM:-0700
TZOFFSETTO:-0600
TZNAME:MDT
DTSTART:20210314T090000
END:DAYLIGHT
BEGIN:STANDARD
TZOFFSETFROM:-0600
TZOFFSETTO:-0700
TZNAME:MST
DTSTART:20211107T080000
END:STANDARD
BEGIN:DAYLIGHT
TZOFFSETFROM:-0700
TZOFFSETTO:-0600
TZNAME:MDT
DTSTART:20220313T090000
END:DAYLIGHT
BEGIN:STANDARD
TZOFFSETFROM:-0600
TZOFFSETTO:-0700
TZNAME:MST
DTSTART:20221106T080000
END:STANDARD
BEGIN:DAYLIGHT
TZOFFSETFROM:-0700
TZOFFSETTO:-0600
TZNAME:MDT
DTSTART:20230312T090000
END:DAYLIGHT
BEGIN:STANDARD
TZOFFSETFROM:-0600
TZOFFSETTO:-0700
TZNAME:MST
DTSTART:20231105T080000
END:STANDARD
BEGIN:DAYLIGHT
TZOFFSETFROM:-0700
TZOFFSETTO:-0600
TZNAME:MDT
DTSTART:20240310T090000
END:DAYLIGHT
BEGIN:STANDARD
TZOFFSETFROM:-0600
TZOFFSETTO:-0700
TZNAME:MST
DTSTART:20241103T080000
END:STANDARD
END:VTIMEZONE
BEGIN:VEVENT
DTSTART;TZID=America/Denver:20230515T190000
DTEND;TZID=America/Denver:20230515T210000
DTSTAMP:20260423T005605
CREATED:20221206T200108Z
LAST-MODIFIED:20230209T014218Z
UID:8047-1684177200-1684184400@nanaimofamilyhistory.ca
SUMMARY:NFHS General Meeting
DESCRIPTION:LIANNE KRUGER\nHOME ON THE RANGE \nLianne will speak on understanding homestead records in western Canada.
URL:https://nanaimofamilyhistory.ca/event/nfhs-general-meeting-31/
LOCATION:Beban Park Social Centre\, Room 7\, 2300 Bowen Road\, Nanaimo\,\, BC\, V9T 3K7\, Canada
END:VEVENT
BEGIN:VEVENT
DTSTART;TZID=America/Denver:20230511T183000
DTEND;TZID=America/Denver:20230511T200000
DTSTAMP:20260423T005605
CREATED:20221210T235435Z
LAST-MODIFIED:20221210T235435Z
UID:8153-1683829800-1683835200@nanaimofamilyhistory.ca
SUMMARY:Genealogy Book Club
DESCRIPTION:We’re working through the book called The Family Tree Guide to DNA Testing and Genetic Genealogy\, Second Edition\, by Blaine Bettinger. Blaine writes about DNA in easily understandable terms\, making this the ideal book for those beginning their DNA journey\, while still tackling complex subjects that are of benefit to more advanced practitioners. You can join us anytime. \n 
URL:https://nanaimofamilyhistory.ca/event/genealogy-book-club-5/
END:VEVENT
BEGIN:VEVENT
DTSTART;TZID=America/Denver:20230504T183000
DTEND;TZID=America/Denver:20230504T200000
DTSTAMP:20260423T005605
CREATED:20221210T235349Z
LAST-MODIFIED:20221210T235349Z
UID:8151-1683225000-1683230400@nanaimofamilyhistory.ca
SUMMARY:Genealogy Pitfalls & Successes
DESCRIPTION:Searching for the Robinsons: What Happened to the Descendants of My Great\, Great Grandparents?
URL:https://nanaimofamilyhistory.ca/event/genealogy-pitfalls-successes-3/
END:VEVENT
BEGIN:VEVENT
DTSTART;TZID=America/Denver:20230501T183000
DTEND;TZID=America/Denver:20230501T193000
DTSTAMP:20260423T005605
CREATED:20221206T200959Z
LAST-MODIFIED:20221206T200959Z
UID:8067-1682965800-1682969400@nanaimofamilyhistory.ca
SUMMARY:NFHS Executive Meeting
DESCRIPTION:
URL:https://nanaimofamilyhistory.ca/event/nfhs-executive-meeting-35/
END:VEVENT
BEGIN:VEVENT
DTSTART;TZID=America/Denver:20230427T183000
DTEND;TZID=America/Denver:20230427T200000
DTSTAMP:20260423T005605
CREATED:20221210T235308Z
LAST-MODIFIED:20221210T235308Z
UID:8149-1682620200-1682625600@nanaimofamilyhistory.ca
SUMMARY:Beginning Genealogy: What Do I Want to Know
DESCRIPTION:This discussion will focus on the reasons for doing genealogy and help beginners as well as experienced researchers prioritize their goals to make the most efficient use of resources. You can’t find the answers if you don’t know the questions!
URL:https://nanaimofamilyhistory.ca/event/beginning-genealogy-what-do-i-want-to-know/
END:VEVENT
BEGIN:VEVENT
DTSTART;TZID=America/Denver:20230420T183000
DTEND;TZID=America/Denver:20230420T200000
DTSTAMP:20260423T005605
CREATED:20221210T235206Z
LAST-MODIFIED:20221210T235206Z
UID:8147-1682015400-1682020800@nanaimofamilyhistory.ca
SUMMARY:Writer’s Group
DESCRIPTION:The writing/editing group will move into some more complex strategies to consider when editing our work. These strategies will include character development\, pace and momentum\, plot and structure\, and suspense and tension. We will also review showing and telling and have a look at transitions\, both between paragraphs and chapters. We will discuss how these editing skills are all applicable to writing your family history.
URL:https://nanaimofamilyhistory.ca/event/writers-group-6/
END:VEVENT
BEGIN:VEVENT
DTSTART;TZID=America/Denver:20230417T190000
DTEND;TZID=America/Denver:20230417T210000
DTSTAMP:20260423T005605
CREATED:20221206T200008Z
LAST-MODIFIED:20230209T013903Z
UID:8045-1681758000-1681765200@nanaimofamilyhistory.ca
SUMMARY:NFHS General Meeting
DESCRIPTION:GENEVIEVE WEBER\, ARCHIVIST ROYAL BC MUSEUM\nGoing Beyond Vital Events Records:\nFinding Family at the BC Archives \nThe BC Archives is the provincial repository for records relating to British Columbia.\nThe archives provides access to the vital events (birth\, marriage and death)\nregistrations. This is often the starting point for building a family tree\, but did you\nknow that there are many other records in our holdings that can unlock the mysteries\nof your family history? This workshop will cover the Top 10 record types to aid with\ngenealogy research\, and will also discuss navigating the BC Archives processes\, \nHybrid meeting – in person at Beban Park and by Zoom; speaker on Zoom
URL:https://nanaimofamilyhistory.ca/event/nfhs-general-meeting-30/
LOCATION:Beban Park Social Centre\, Room 7\, 2300 Bowen Road\, Nanaimo\,\, BC\, V9T 3K7\, Canada
END:VEVENT
BEGIN:VEVENT
DTSTART;TZID=America/Denver:20230413T183000
DTEND;TZID=America/Denver:20230413T200000
DTSTAMP:20260423T005605
CREATED:20221210T235125Z
LAST-MODIFIED:20221210T235125Z
UID:8145-1681410600-1681416000@nanaimofamilyhistory.ca
SUMMARY:Genealogy Book Club
DESCRIPTION:We’re working through the book called The Family Tree Guide to DNA Testing and Genetic Genealogy\, Second Edition\, by Blaine Bettinger. Blaine writes about DNA in easily understandable terms\, making this the ideal book for those beginning their DNA journey\, while still tackling complex subjects that are of benefit to more advanced practitioners. You can join us anytime.
URL:https://nanaimofamilyhistory.ca/event/genealogy-book-club-4/
END:VEVENT
BEGIN:VEVENT
DTSTART;TZID=America/Denver:20230406T183000
DTEND;TZID=America/Denver:20230406T200000
DTSTAMP:20260423T005605
CREATED:20221210T235043Z
LAST-MODIFIED:20221210T235043Z
UID:8143-1680805800-1680811200@nanaimofamilyhistory.ca
SUMMARY:Researching in Lancashire
DESCRIPTION:Penny is going to talk about her Lancashire research\, with anecdotes about how some of her most surprising information came about.  There will be suggestions for local records and finding your own historian.
URL:https://nanaimofamilyhistory.ca/event/researching-in-lancashire/
END:VEVENT
BEGIN:VEVENT
DTSTART;TZID=America/Denver:20230403T183000
DTEND;TZID=America/Denver:20230403T193000
DTSTAMP:20260423T005605
CREATED:20221206T200843Z
LAST-MODIFIED:20221206T200843Z
UID:8065-1680546600-1680550200@nanaimofamilyhistory.ca
SUMMARY:NFHS Executive Meeting
DESCRIPTION:
URL:https://nanaimofamilyhistory.ca/event/nfhs-executive-meeting-34/
END:VEVENT
BEGIN:VEVENT
DTSTART;TZID=America/Denver:20230330T183000
DTEND;TZID=America/Denver:20230330T200000
DTSTAMP:20260423T005605
CREATED:20221210T234947Z
LAST-MODIFIED:20221210T234947Z
UID:8141-1680201000-1680206400@nanaimofamilyhistory.ca
SUMMARY:Genealogy Pitfalls & Successes
DESCRIPTION:Lost Ancestors? Were they non-conformists?
URL:https://nanaimofamilyhistory.ca/event/genealogy-pitfalls-successes/
END:VEVENT
BEGIN:VEVENT
DTSTART;TZID=America/Denver:20230323T183000
DTEND;TZID=America/Denver:20230323T200000
DTSTAMP:20260423T005605
CREATED:20221210T234904Z
LAST-MODIFIED:20221210T234904Z
UID:8139-1679596200-1679601600@nanaimofamilyhistory.ca
SUMMARY:Brick Wall Busting
DESCRIPTION:Do you have a dead-end on your tree that you’re trying to break through? Please bring your problem to this session along with the ideas you’ve already tried. Donna MacIver will facilitate a discussion amongst the participants to brainstorm potential solutions.
URL:https://nanaimofamilyhistory.ca/event/brick-wall-busting-2/
END:VEVENT
BEGIN:VEVENT
DTSTART;TZID=America/Denver:20230320T190000
DTEND;TZID=America/Denver:20230320T210000
DTSTAMP:20260423T005605
CREATED:20230203T010626Z
LAST-MODIFIED:20230203T010626Z
UID:8286-1679338800-1679346000@nanaimofamilyhistory.ca
SUMMARY:NFHS General Meeting
DESCRIPTION:Claire Smith-Burns – Genealogical Research & Educator \nBiography: \nClaire Smith-Burns became intrigued with family history in her teen-years and has been happily involved in genealogical research since then. Her long experience with Canadian\, British and Dutch records has been influenced by her educational background in anthropology (Universities of British Columbia and Victoria) and career in museum and archival management. Claire has been active with genealogy societies across Canada and has many years experience in designing and implementing educational programs\, workshops and conferences. In 1999\, she attended a three-week genealogy study tour in England through Samford University\, Alabama. Claire has also completed several courses through the BYU Family History program. She has led six research trips to the Family History Library in Salt Lake City and organized ten “Harvest Your Family Tree” conferences for the Kelowna & District Genealogical Society. These conferences were some of the largest genealogy events held in Western Canada. Claire has published several articles in Canadian genealogy journals and was awarded the Marion Keffer Prize by the Ontario Genealogical Society in 2002 for best original article. Currently\, Claire is chairperson of both the Public Education and Library Committees for the Kelowna & District Genealogical Society and is the Online Parish Clerk for three parishes in Dorset\, England.  In her other life\, Claire manages her husband’s international safety consulting company\, enjoys hiking and spends countless hours in her garden in Kelowna\, British Columbia. \n  \nBy Zoom
URL:https://nanaimofamilyhistory.ca/event/nfhs-general-meeting/
END:VEVENT
BEGIN:VEVENT
DTSTART;TZID=America/Denver:20230316T183000
DTEND;TZID=America/Denver:20230316T200000
DTSTAMP:20260423T005605
CREATED:20221210T234821Z
LAST-MODIFIED:20221210T234821Z
UID:8137-1678991400-1678996800@nanaimofamilyhistory.ca
SUMMARY:Writer’s Group
DESCRIPTION:The writing/editing group will move into some more complex strategies to consider when editing our work. These strategies will include character development\, pace and momentum\, plot and structure\, and suspense and tension. We will also review showing and telling and have a look at transitions\, both between paragraphs and chapters. We will discuss how these editing skills are all applicable to writing your family history.
URL:https://nanaimofamilyhistory.ca/event/writers-group-5/
END:VEVENT
BEGIN:VEVENT
DTSTART;TZID=America/Denver:20230309T183000
DTEND;TZID=America/Denver:20230309T200000
DTSTAMP:20260423T005605
CREATED:20221210T234738Z
LAST-MODIFIED:20221210T234738Z
UID:8135-1678386600-1678392000@nanaimofamilyhistory.ca
SUMMARY:Genealogy Book Club
DESCRIPTION:We’re working through the book called The Family Tree Guide to DNA Testing and Genetic Genealogy\, Second Edition\, by Blaine Bettinger. Blaine writes about DNA in easily understandable terms\, making this the ideal book for those beginning their DNA journey\, while still tackling complex subjects that are of benefit to more advanced practitioners. You can join us anytime. \n 
URL:https://nanaimofamilyhistory.ca/event/genealogy-book-club-3/
END:VEVENT
BEGIN:VEVENT
DTSTART;TZID=America/Denver:20230306T183000
DTEND;TZID=America/Denver:20230306T193000
DTSTAMP:20260423T005605
CREATED:20221206T200817Z
LAST-MODIFIED:20221206T200817Z
UID:8063-1678127400-1678131000@nanaimofamilyhistory.ca
SUMMARY:NFHS Executive Meeting
DESCRIPTION:
URL:https://nanaimofamilyhistory.ca/event/nfhs-executive-meeting-33/
END:VEVENT
BEGIN:VEVENT
DTSTART;TZID=America/Denver:20230223T183000
DTEND;TZID=America/Denver:20230223T200000
DTSTAMP:20260423T005605
CREATED:20221210T234656Z
LAST-MODIFIED:20221210T234656Z
UID:8133-1677177000-1677182400@nanaimofamilyhistory.ca
SUMMARY:Beginning Genealogy: What Do I Already Know
DESCRIPTION:Most of us begin our genealogy research with some family stories\, photos\, and perhaps a few documents already in hand. This discussion will focus on how to collect “perishable” information stored in the heads and hands of family members—before it’s too late.
URL:https://nanaimofamilyhistory.ca/event/beginning-genealogy-what-do-i-already-know/
END:VEVENT
BEGIN:VEVENT
DTSTART;TZID=America/Denver:20230220T190000
DTEND;TZID=America/Denver:20230220T210000
DTSTAMP:20260423T005605
CREATED:20230115T170751Z
LAST-MODIFIED:20230115T170751Z
UID:8231-1676919600-1676926800@nanaimofamilyhistory.ca
SUMMARY:NFHS General Meeting & AGM
DESCRIPTION:Annual General Meeting\, including Election of Officers\, followed by AHA moments by members. \n  \nby Zoom only \n 
URL:https://nanaimofamilyhistory.ca/event/nfhs-general-meeting-agm/
END:VEVENT
BEGIN:VEVENT
DTSTART;TZID=America/Denver:20230216T183000
DTEND;TZID=America/Denver:20230216T200000
DTSTAMP:20260423T005605
CREATED:20221210T234609Z
LAST-MODIFIED:20221210T234609Z
UID:8131-1676572200-1676577600@nanaimofamilyhistory.ca
SUMMARY:Writer’s Group
DESCRIPTION:The writing/editing group will move into some more complex strategies to consider when editing our work. These strategies will include character development\, pace and momentum\, plot and structure\, and suspense and tension. We will also review showing and telling and have a look at transitions\, both between paragraphs and chapters. We will discuss how these editing skills are all applicable to writing your family history.
URL:https://nanaimofamilyhistory.ca/event/writers-group-4/
END:VEVENT
BEGIN:VEVENT
DTSTART;TZID=America/Denver:20230209T183000
DTEND;TZID=America/Denver:20230209T200000
DTSTAMP:20260423T005605
CREATED:20221210T234514Z
LAST-MODIFIED:20221210T234514Z
UID:8129-1675967400-1675972800@nanaimofamilyhistory.ca
SUMMARY:Genealogy Book Club
DESCRIPTION:We’re working through the book called The Family Tree Guide to DNA Testing and Genetic Genealogy\, Second Edition\, by Blaine Bettinger. Blaine writes about DNA in easily understandable terms\, making this the ideal book for those beginning their DNA journey\, while still tackling complex subjects that are of benefit to more advanced practitioners. You can join us anytime.
URL:https://nanaimofamilyhistory.ca/event/genealogy-book-club-2/
END:VEVENT
BEGIN:VEVENT
DTSTART;TZID=America/Denver:20230206T183000
DTEND;TZID=America/Denver:20230206T193000
DTSTAMP:20260423T005605
CREATED:20221206T200748Z
LAST-MODIFIED:20221206T200748Z
UID:8061-1675708200-1675711800@nanaimofamilyhistory.ca
SUMMARY:NFHS Executive Meeting
DESCRIPTION:
URL:https://nanaimofamilyhistory.ca/event/nfhs-executive-meeting-32/
END:VEVENT
BEGIN:VEVENT
DTSTART;TZID=America/Denver:20230202T183000
DTEND;TZID=America/Denver:20230202T200000
DTSTAMP:20260423T005605
CREATED:20221210T234431Z
LAST-MODIFIED:20221210T234431Z
UID:8127-1675362600-1675368000@nanaimofamilyhistory.ca
SUMMARY:WikiTree
DESCRIPTION:Are you concerned that your genealogical research might get lost through fire\, flood and other disaster? Do you want your family to have easy access to your research now and for generations to come?  Join Barbara Winter as she explores keeping your work as digitally preserved as possible using Wikitree.
URL:https://nanaimofamilyhistory.ca/event/wikitree/
END:VEVENT
BEGIN:VEVENT
DTSTART;TZID=America/Denver:20230126T183000
DTEND;TZID=America/Denver:20230126T200000
DTSTAMP:20260423T005605
CREATED:20221210T234339Z
LAST-MODIFIED:20221210T234339Z
UID:8125-1674757800-1674763200@nanaimofamilyhistory.ca
SUMMARY:Brick Wall Busting
DESCRIPTION:Do you have a dead-end on your tree that you’re trying to break through? Please bring your problem to this session along with the ideas you’ve already tried. Donna MacIver will facilitate a discussion amongst the participants to brainstorm potential solutions.
URL:https://nanaimofamilyhistory.ca/event/brick-wall-busting/
END:VEVENT
BEGIN:VEVENT
DTSTART;TZID=America/Denver:20230119T183000
DTEND;TZID=America/Denver:20230119T200000
DTSTAMP:20260423T005605
CREATED:20221210T234253Z
LAST-MODIFIED:20221210T234253Z
UID:8123-1674153000-1674158400@nanaimofamilyhistory.ca
SUMMARY:Writer’s Group
DESCRIPTION:For the spring sessions\, January 19 to June 15\, the writing/editing group will move into some more complex strategies to consider when editing our work. \nThese will include character development\, pace and momentum\, plot and structure\, and suspense and tension. We will also review showing and telling and have a look at transitions\, both between paragraphs and chapters. \nIn session #1\, we will decide as a group\, which strategies we want to spend more or less time working on\, and if there are others in which you would be interested…and I hope we will discuss how these editing skills are all applicable to writing your family history.
URL:https://nanaimofamilyhistory.ca/event/writers-group/
END:VEVENT
BEGIN:VEVENT
DTSTART;TZID=America/Denver:20230116T190000
DTEND;TZID=America/Denver:20230116T210000
DTSTAMP:20260423T005605
CREATED:20221206T195438Z
LAST-MODIFIED:20230110T042515Z
UID:8038-1673895600-1673902800@nanaimofamilyhistory.ca
SUMMARY:NFHS General Meeting
DESCRIPTION:Dave Obee of Victoria BC \n“Think you have it Tough?  Try research in Eastern Europe.”  Dave will also give several ideas that could be applied anywhere in the world. \n  \nby Zoom only
URL:https://nanaimofamilyhistory.ca/event/nfhs-general-meeting-27/
END:VEVENT
BEGIN:VEVENT
DTSTART;TZID=America/Denver:20230112T183000
DTEND;TZID=America/Denver:20230112T200000
DTSTAMP:20260423T005605
CREATED:20221210T234147Z
LAST-MODIFIED:20221210T234147Z
UID:8121-1673548200-1673553600@nanaimofamilyhistory.ca
SUMMARY:Genealogy Book Club
DESCRIPTION:We’re working through the book called The Family Tree Guide to DNA Testing and Genetic Genealogy\, Second Edition\, by Blaine Bettinger. Blaine writes about DNA in easily understandable terms\, making this the ideal book for those beginning their DNA journey\, while still tackling complex subjects that are of benefit to more advanced practitioners. For January\, we will be reading Chapter 5 on Y-DNA testing. You can join us anytime.
URL:https://nanaimofamilyhistory.ca/event/genealogy-book-club/
END:VEVENT
BEGIN:VEVENT
DTSTART;TZID=America/Denver:20230102T183000
DTEND;TZID=America/Denver:20230102T193000
DTSTAMP:20260423T005605
CREATED:20221206T200721Z
LAST-MODIFIED:20221206T200721Z
UID:8059-1672684200-1672687800@nanaimofamilyhistory.ca
SUMMARY:NFHS Executive Meeting
DESCRIPTION:
URL:https://nanaimofamilyhistory.ca/event/nfhs-executive-meeting-31/
END:VEVENT
BEGIN:VEVENT
DTSTART;TZID=America/Denver:20221212T140000
DTEND;TZID=America/Denver:20221212T163000
DTSTAMP:20260423T005605
CREATED:20220125T010042Z
LAST-MODIFIED:20220125T010042Z
UID:7168-1670853600-1670862600@nanaimofamilyhistory.ca
SUMMARY:NFHS Social
DESCRIPTION:
URL:https://nanaimofamilyhistory.ca/event/nfhs-social-2/
END:VEVENT
BEGIN:VEVENT
DTSTART;TZID=America/Denver:20221208T183000
DTEND;TZID=America/Denver:20221208T200000
DTSTAMP:20260423T005605
CREATED:20220914T010853Z
LAST-MODIFIED:20220914T010853Z
UID:7827-1670524200-1670529600@nanaimofamilyhistory.ca
SUMMARY:Genealogy Book Club\, Terry Hartley
DESCRIPTION:We are working through the book\, The Family Tree Guide to DNA Testing and Genetic Genealogy\, Second Edition\, by Blaine Bettinger. Blaine writes about DNA in easily understandable terms\, making this the ideal book for those beginning their DNA journey\, while still tackling complex subjects that are of benefit to more advanced practitioners. You can join us anytime. \nRegister in advance for this meeting.
URL:https://nanaimofamilyhistory.ca/event/genealogy-book-club-terry-hartley-3/
END:VEVENT
BEGIN:VEVENT
DTSTART;TZID=America/Denver:20221206T080000
DTEND;TZID=America/Denver:20221206T170000
DTSTAMP:20260423T005605
CREATED:20221206T195820Z
LAST-MODIFIED:20221206T195820Z
UID:8043-1670313600-1670346000@nanaimofamilyhistory.ca
SUMMARY:NFHS General Meeting
DESCRIPTION:Dave Obee of Victoria\, BC – unknown topic at this time \n  \nby Zoom only
URL:https://nanaimofamilyhistory.ca/event/nfhs-general-meeting-29/
END:VEVENT
END:VCALENDAR