BEGIN:VCALENDAR
VERSION:2.0
PRODID:-//Nanaimo Family History Society - ECPv6.15.20//NONSGML v1.0//EN
CALSCALE:GREGORIAN
METHOD:PUBLISH
X-WR-CALNAME:Nanaimo Family History Society
X-ORIGINAL-URL:https://nanaimofamilyhistory.ca
X-WR-CALDESC:Events for Nanaimo Family History Society
REFRESH-INTERVAL;VALUE=DURATION:PT1H
X-Robots-Tag:noindex
X-PUBLISHED-TTL:PT1H
BEGIN:VTIMEZONE
TZID:America/Denver
BEGIN:DAYLIGHT
TZOFFSETFROM:-0700
TZOFFSETTO:-0600
TZNAME:MDT
DTSTART:20220313T090000
END:DAYLIGHT
BEGIN:STANDARD
TZOFFSETFROM:-0600
TZOFFSETTO:-0700
TZNAME:MST
DTSTART:20221106T080000
END:STANDARD
BEGIN:DAYLIGHT
TZOFFSETFROM:-0700
TZOFFSETTO:-0600
TZNAME:MDT
DTSTART:20230312T090000
END:DAYLIGHT
BEGIN:STANDARD
TZOFFSETFROM:-0600
TZOFFSETTO:-0700
TZNAME:MST
DTSTART:20231105T080000
END:STANDARD
BEGIN:DAYLIGHT
TZOFFSETFROM:-0700
TZOFFSETTO:-0600
TZNAME:MDT
DTSTART:20240310T090000
END:DAYLIGHT
BEGIN:STANDARD
TZOFFSETFROM:-0600
TZOFFSETTO:-0700
TZNAME:MST
DTSTART:20241103T080000
END:STANDARD
BEGIN:DAYLIGHT
TZOFFSETFROM:-0700
TZOFFSETTO:-0600
TZNAME:MDT
DTSTART:20250309T090000
END:DAYLIGHT
BEGIN:STANDARD
TZOFFSETFROM:-0600
TZOFFSETTO:-0700
TZNAME:MST
DTSTART:20251102T080000
END:STANDARD
END:VTIMEZONE
BEGIN:VEVENT
DTSTART;TZID=America/Denver:20240307T183000
DTEND;TZID=America/Denver:20240307T200000
DTSTAMP:20260422T185511
CREATED:20231231T004818Z
LAST-MODIFIED:20231231T004818Z
UID:9495-1709836200-1709841600@nanaimofamilyhistory.ca
SUMMARY:Searching for British Ancestors Beyond the Census\, Carolyn Kemp
DESCRIPTION:Carolyn will provide some examples from her research into less common resources such as apprenticeship papers\, poor law records\, and others.
URL:https://nanaimofamilyhistory.ca/event/searching-for-british-ancestors-beyond-the-census-carolyn-kemp/
END:VEVENT
BEGIN:VEVENT
DTSTART;TZID=America/Denver:20240304T133000
DTEND;TZID=America/Denver:20240304T150000
DTSTAMP:20260422T185511
CREATED:20231123T225318Z
LAST-MODIFIED:20231123T225318Z
UID:9296-1709559000-1709564400@nanaimofamilyhistory.ca
SUMMARY:NFHS Executive Meeting
DESCRIPTION:
URL:https://nanaimofamilyhistory.ca/event/nfhs-executive-meeting-3/
END:VEVENT
BEGIN:VEVENT
DTSTART;TZID=America/Denver:20240229T183000
DTEND;TZID=America/Denver:20240229T200000
DTSTAMP:20260422T185511
CREATED:20231231T004719Z
LAST-MODIFIED:20231231T004719Z
UID:9493-1709231400-1709236800@nanaimofamilyhistory.ca
SUMMARY:A Midshipman at Crimea\, Tony Green
DESCRIPTION:Tony’s story is of his ancestor\, Charles William Thomas Cookesley\, witness after the fact of the Charge of the Light Brigade. Originally from Boulogne-sur-mer\, this privileged doctor’s son started as a midshipman in Crimea but failed on the Australian goldfields.
URL:https://nanaimofamilyhistory.ca/event/a-midshipman-at-crimea-tony-green/
END:VEVENT
BEGIN:VEVENT
DTSTART;TZID=America/Denver:20240219T190000
DTEND;TZID=America/Denver:20240219T210000
DTSTAMP:20260422T185511
CREATED:20231123T225942Z
LAST-MODIFIED:20231123T231152Z
UID:9316-1708369200-1708376400@nanaimofamilyhistory.ca
SUMMARY:NFHS General Meeting & AGM
DESCRIPTION:Annual General Meeting\, including Election of Officers\, followed by AHA moments by members. \n  \nby Zoom only \n 
URL:https://nanaimofamilyhistory.ca/event/nfhs-general-meeting-agm-2/
END:VEVENT
BEGIN:VEVENT
DTSTART;TZID=America/Denver:20240215T183000
DTEND;TZID=America/Denver:20240215T200000
DTSTAMP:20260422T185511
CREATED:20231231T004543Z
LAST-MODIFIED:20231231T004543Z
UID:9491-1708021800-1708027200@nanaimofamilyhistory.ca
SUMMARY:Surprising Findings at Newspapers.com\, Aleda Spring
DESCRIPTION:Aleda has found this website to be very helpful. She will describe some of her surprising and interesting finds there.
URL:https://nanaimofamilyhistory.ca/event/surprising-findings-at-newspapers-com-aleda-spring/
END:VEVENT
BEGIN:VEVENT
DTSTART;TZID=America/Denver:20240208T183000
DTEND;TZID=America/Denver:20240208T200000
DTSTAMP:20260422T185511
CREATED:20231231T004357Z
LAST-MODIFIED:20231231T004440Z
UID:9488-1707417000-1707422400@nanaimofamilyhistory.ca
SUMMARY:Genealogy Book Club\, Terry Hartley
DESCRIPTION:The book club has been studying “Tracing Your Ancestors Using DNA”\, edited by Graham S. Holton. We will continue to focus on this book for 6 more sessions: January – June of 2024. The group shares questions and ideas which arise from reading the book. Everyone interested in the use of DNA for genealogy will enjoy the discussions\, regardless of previous experience. The January session will discuss Chapter 4. Note. The print version of the book is only available to order. Try Chapters or Amazon. The ebook is on Kindle and Google.  \nRegister once for all 6 sessions\, held on the second Thursday of the month. 
URL:https://nanaimofamilyhistory.ca/event/genealogy-book-club-terry-hartley-5/
END:VEVENT
BEGIN:VEVENT
DTSTART;TZID=America/Denver:20240205T133000
DTEND;TZID=America/Denver:20240205T150000
DTSTAMP:20260422T185511
CREATED:20231123T225246Z
LAST-MODIFIED:20231123T225246Z
UID:9294-1707139800-1707145200@nanaimofamilyhistory.ca
SUMMARY:NFHS Executive Meeting
DESCRIPTION:
URL:https://nanaimofamilyhistory.ca/event/nfhs-executive-meeting-2/
END:VEVENT
BEGIN:VEVENT
DTSTART;TZID=America/Denver:20240201T183000
DTEND;TZID=America/Denver:20240201T200000
DTSTAMP:20260422T185511
CREATED:20231231T004245Z
LAST-MODIFIED:20231231T004245Z
UID:9486-1706812200-1706817600@nanaimofamilyhistory.ca
SUMMARY:My Irish Ancestors’ Ever-Changing Religious Affiliations\, Penny Bent
DESCRIPTION:Penny will follow her family’s religious “explorations” in Ireland in the late 1800’s.
URL:https://nanaimofamilyhistory.ca/event/my-irish-ancestors-ever-changing-religious-affiliations-penny-bent/
END:VEVENT
BEGIN:VEVENT
DTSTART;TZID=America/Denver:20240125T183000
DTEND;TZID=America/Denver:20240125T200000
DTSTAMP:20260422T185511
CREATED:20231231T004145Z
LAST-MODIFIED:20231231T004145Z
UID:9484-1706207400-1706212800@nanaimofamilyhistory.ca
SUMMARY:Brick Wall Busting\, Donna MacIver
DESCRIPTION:Do you have a dead-end on your tree that you’ve been trying to break through? Or are you new to family history research and unsure where to start? Please bring your problems and questions to this session\, along with the ideas you’ve already tried.  Donna will facilitate a discussion amongst the participants to brainstorm potential solutions and help you on the road to success! \nRegister once for 3 sessions: January 25\, March 28\, and May 23.
URL:https://nanaimofamilyhistory.ca/event/brick-wall-busting-donna-maciver-3/
END:VEVENT
BEGIN:VEVENT
DTSTART;TZID=America/Denver:20240118T183000
DTEND;TZID=America/Denver:20240118T200000
DTSTAMP:20260422T185511
CREATED:20231231T003952Z
LAST-MODIFIED:20231231T003952Z
UID:9482-1705602600-1705608000@nanaimofamilyhistory.ca
SUMMARY:Did I Marry My Cousin? …Eww! Ruth Stewart 
DESCRIPTION:Ruth proves her relatives are in her husband’s family tree through DNA and paper research.
URL:https://nanaimofamilyhistory.ca/event/did-i-marry-my-cousin-eww-ruth-stewart/
END:VEVENT
BEGIN:VEVENT
DTSTART;TZID=America/Denver:20240115T190000
DTEND;TZID=America/Denver:20240115T210000
DTSTAMP:20260422T185511
CREATED:20231123T225125Z
LAST-MODIFIED:20231123T225125Z
UID:9292-1705345200-1705352400@nanaimofamilyhistory.ca
SUMMARY:NFHS General Meeting
DESCRIPTION:Jamie Brown from the Surrey Public Library\, Cloverdale Branch \nJamie will be giving us her presentation on “Tips to get the most out of Ancestry and Find My Past”. \nby Zoom
URL:https://nanaimofamilyhistory.ca/event/nfhs-general-meeting-2/
END:VEVENT
BEGIN:VEVENT
DTSTART;TZID=America/Denver:20240111T183000
DTEND;TZID=America/Denver:20240111T200000
DTSTAMP:20260422T185511
CREATED:20231231T003828Z
LAST-MODIFIED:20231231T003828Z
UID:9480-1704997800-1705003200@nanaimofamilyhistory.ca
SUMMARY:Genealogy Book Club\, Terry Hartley
DESCRIPTION:The book club has been studying “Tracing Your Ancestors Using DNA”\, edited by Graham S. Holton. We will continue to focus on this book for 6 more sessions: January – June of 2024. The group shares questions and ideas which arise from reading the book. Everyone interested in the use of DNA for genealogy will enjoy the discussions\, regardless of previous experience. The January session will discuss Chapter 4. Note. The print version of the book is only available to order. Try Chapters or Amazon. The ebook is on Kindle and Google.  \nRegister once for all 6 sessions\, held on the second Thursday of the month. 
URL:https://nanaimofamilyhistory.ca/event/genealogy-book-club-terry-hartley-4/
END:VEVENT
BEGIN:VEVENT
DTSTART;TZID=America/Denver:20240108T133000
DTEND;TZID=America/Denver:20240108T150000
DTSTAMP:20260422T185511
CREATED:20231123T224748Z
LAST-MODIFIED:20231123T225157Z
UID:9290-1704720600-1704726000@nanaimofamilyhistory.ca
SUMMARY:NFHS Executive meeting
DESCRIPTION:
URL:https://nanaimofamilyhistory.ca/event/nfhs-executive-meeting/
END:VEVENT
BEGIN:VEVENT
DTSTART;TZID=America/Denver:20231214T183000
DTEND;TZID=America/Denver:20231214T193000
DTSTAMP:20260422T185511
CREATED:20230912T161416Z
LAST-MODIFIED:20230912T161416Z
UID:8970-1702578600-1702582200@nanaimofamilyhistory.ca
SUMMARY:DNA Book Club
DESCRIPTION:DNA Book Club\, Terry Hartley \nThe book club will study “Tracing Your Ancestors Using DNA”\, edited by Graham Holt. The group will share questions and ideas which arise from reading the book. Everyone interested in the use of DNA for genealogy will enjoy the discussions\, regardless of previous experience. The book will continue to be the focus of several more sessions in the spring of 2024. Register once for all 3 Fall sessions.  \nNote. The print version of the book is only available to order. Try Chapters or Amazon. The ebook is on Kindle and Google. 
URL:https://nanaimofamilyhistory.ca/event/dna-book-club-2/
END:VEVENT
BEGIN:VEVENT
DTSTART;TZID=America/Denver:20231211T140000
DTEND;TZID=America/Denver:20231211T160000
DTSTAMP:20260422T185511
CREATED:20221206T200615Z
LAST-MODIFIED:20221206T200615Z
UID:8057-1702303200-1702310400@nanaimofamilyhistory.ca
SUMMARY:NFHS Social
DESCRIPTION:TBA
URL:https://nanaimofamilyhistory.ca/event/nfhs-social-3/
LOCATION:Beban Park Social Centre\, Room 7\, 2300 Bowen Road\, Nanaimo\,\, BC\, V9T 3K7\, Canada
END:VEVENT
BEGIN:VEVENT
DTSTART;TZID=America/Denver:20231207T183000
DTEND;TZID=America/Denver:20231207T193000
DTSTAMP:20260422T185511
CREATED:20230912T161258Z
LAST-MODIFIED:20230912T161258Z
UID:8968-1701973800-1701977400@nanaimofamilyhistory.ca
SUMMARY:DNA Tools in My Heritage
DESCRIPTION:DNA Tools in My Heritage\, Gina Dingwell \n \nGina uses the DNA tools available in My Heritage to research her matches. She will demonstrate the tools and talk about how they’ve benefited her research. \nGina’s research into her family history began at the age of 16 in the days of the IGI\, handwritten logs and letters with SAS envelopes. As an amateur\, the discovery of  Ancestry  greatly enhanced her research. The tools of My Heritage  allowed her to further expand her research and more deeply understand DNA relationships.  \nGina had a long career as an educator and researcher in health care (MA Ed). \nShe completed a  Textile Arts degree in 2010. 
URL:https://nanaimofamilyhistory.ca/event/dna-tools-in-my-heritage/
END:VEVENT
BEGIN:VEVENT
DTSTART;TZID=America/Denver:20231204T183000
DTEND;TZID=America/Denver:20231204T193000
DTSTAMP:20260422T185511
CREATED:20221206T201240Z
LAST-MODIFIED:20221206T201240Z
UID:8077-1701714600-1701718200@nanaimofamilyhistory.ca
SUMMARY:NFHS Executive Meeting
DESCRIPTION:
URL:https://nanaimofamilyhistory.ca/event/nfhs-executive-meeting-40/
END:VEVENT
BEGIN:VEVENT
DTSTART;TZID=America/Denver:20231130T183000
DTEND;TZID=America/Denver:20231130T193000
DTSTAMP:20260422T185511
CREATED:20230912T161154Z
LAST-MODIFIED:20230912T161154Z
UID:8966-1701369000-1701372600@nanaimofamilyhistory.ca
SUMMARY:Did I Marry My Cousin? …Eww!
DESCRIPTION:Did I Marry My Cousin? …Eww!\, Ruth Stewart \nRuth p \nDid I Marry My Cousin? …Eww!\, Ruth Stewart \nRuth proves her relatives are in her husband’s family tree through DNA and paper research.roves her relatives are in her husband’s family tree through DNA and paper research.
URL:https://nanaimofamilyhistory.ca/event/did-i-marry-my-cousin-eww/
END:VEVENT
BEGIN:VEVENT
DTSTART;TZID=America/Denver:20231123T183000
DTEND;TZID=America/Denver:20231123T193000
DTSTAMP:20260422T185511
CREATED:20230912T160948Z
LAST-MODIFIED:20230912T160948Z
UID:8964-1700764200-1700767800@nanaimofamilyhistory.ca
SUMMARY:How and Why to Transfer Your Ancestry DNA to Gedmatch and My Heritage
DESCRIPTION:How and Why to Transfer Your Ancestry DNA to Gedmatch and My Heritage\, Susan Bates \n \nAncestry has by far the largest database of persons whose DNA has been tested there. Unfortunately\, it does not allow its subscribers to “see” their DNA at the chromosome level. Both Gedmatch and My Heritage allow uploads of DNA data that was obtained in Ancestry testing\, and they both have tools that provide analysis of DNA matches at the chromosome level. 
URL:https://nanaimofamilyhistory.ca/event/how-and-why-to-transfer-your-ancestry-dna-to-gedmatch-and-my-heritage/
END:VEVENT
BEGIN:VEVENT
DTSTART;TZID=America/Denver:20231120T190000
DTEND;TZID=America/Denver:20231120T210000
DTSTAMP:20260422T185511
CREATED:20221206T200515Z
LAST-MODIFIED:20230905T000330Z
UID:8055-1700506800-1700514000@nanaimofamilyhistory.ca
SUMMARY:NFHS General Meeting
DESCRIPTION:Captain Colin MacGregor Stevens of Richmond\, BC – will appear by Zoom. \nHe has agreed to speak at our “Remembrance Day” meeting on military genealogy.   He spoke at the 2021 Remembrance Day meeting of BCGS and was well received. \nZoom only meeting
URL:https://nanaimofamilyhistory.ca/event/nfhs-general-meeting-35/
LOCATION:Beban Park Social Centre\, Room 7\, 2300 Bowen Road\, Nanaimo\,\, BC\, V9T 3K7\, Canada
END:VEVENT
BEGIN:VEVENT
DTSTART;TZID=America/Denver:20231116T183000
DTEND;TZID=America/Denver:20231116T193000
DTSTAMP:20260422T185511
CREATED:20230912T160840Z
LAST-MODIFIED:20230912T160840Z
UID:8962-1700159400-1700163000@nanaimofamilyhistory.ca
SUMMARY:How To Use Google Photos
DESCRIPTION:How To Use Google Photos\, Beth Skala \n \nGoogle Photos is a free app/program that provides utilities for organizing your photo collections and sharing them with your family. Beth will demonstrate how she has used the program to organize her own photos and describe the benefits of it. 
URL:https://nanaimofamilyhistory.ca/event/how-to-use-google-photos/
END:VEVENT
BEGIN:VEVENT
DTSTART;TZID=America/Denver:20231109T183000
DTEND;TZID=America/Denver:20231109T193000
DTSTAMP:20260422T185511
CREATED:20230912T160720Z
LAST-MODIFIED:20230912T160720Z
UID:8960-1699554600-1699558200@nanaimofamilyhistory.ca
SUMMARY:DNA Book Club
DESCRIPTION:DNA Book Club\, Terry Hartley \nThe book club will study “Tracing Your Ancestors Using DNA”\, edited by Graham Holt. The group will share questions and ideas which arise from reading the book. Everyone interested in the use of DNA for genealogy will enjoy the discussions\, regardless of previous experience. The book will continue to be the focus of several more sessions in the spring of 2024. Register once for all 3 Fall sessions.  \nNote. The print version of the book is only available to order. Try Chapters or Amazon. The ebook is on Kindle and Google. 
URL:https://nanaimofamilyhistory.ca/event/dna-book-club/
END:VEVENT
BEGIN:VEVENT
DTSTART;TZID=America/Denver:20231106T183000
DTEND;TZID=America/Denver:20231106T193000
DTSTAMP:20260422T185511
CREATED:20221206T201210Z
LAST-MODIFIED:20221206T201210Z
UID:8075-1699295400-1699299000@nanaimofamilyhistory.ca
SUMMARY:NFHS Executive Meeting
DESCRIPTION:
URL:https://nanaimofamilyhistory.ca/event/nfhs-executive-meeting-39/
END:VEVENT
BEGIN:VEVENT
DTSTART;TZID=America/Denver:20231102T183000
DTEND;TZID=America/Denver:20231102T193000
DTSTAMP:20260422T185511
CREATED:20230912T160536Z
LAST-MODIFIED:20230912T160536Z
UID:8958-1698949800-1698953400@nanaimofamilyhistory.ca
SUMMARY:Researching Your Elusive UK Ag Labs
DESCRIPTION:Researching Your Elusive UK Ag Labs\, Carolyn Kemp \n“Ag Lab” is a census abbreviation denoting “Agricultural Labourer”.  Carolyn will present a couple of case studies from her research into her own “Ag Labs”.  \nCarolyn is the editor of our journal\, Ancestree. 
URL:https://nanaimofamilyhistory.ca/event/researching-your-elusive-uk-ag-labs/
END:VEVENT
BEGIN:VEVENT
DTSTART;TZID=America/Denver:20231026T183000
DTEND;TZID=America/Denver:20231026T193000
DTSTAMP:20260422T185511
CREATED:20230912T160400Z
LAST-MODIFIED:20230912T160445Z
UID:8955-1698345000-1698348600@nanaimofamilyhistory.ca
SUMMARY:Self-Publishing 101
DESCRIPTION:Self-Publishing 101\, Mali Bain \n  \nAn Overview of Publishing Your Family History  \nThis session will give an overview of the steps involved in moving from a draft text to a completed book.  It will also compare traditional and self-publishing methods and share some of the options available to have your book printed for family and/or the public. \nThis how-to session happens one day after a similarly titled session at VIU Elder College. Come to this session with your questions specific to family history publishing. We’ll go through your questions and the options available to you. \nMali is a family historian\, facilitator\, and certified Guided Autobiography instructor. She holds a B.A. (UBC)\, B.Ed. (SFU)\, and an M.A. in Adult Learning and Education (UBC). She has published her family history book and now helps others complete the books they have been dreaming of through NextGen Story: Custom Publishing.
URL:https://nanaimofamilyhistory.ca/event/self-publishing-101/
END:VEVENT
BEGIN:VEVENT
DTSTART;TZID=America/Denver:20231016T190000
DTEND;TZID=America/Denver:20231016T210000
DTSTAMP:20260422T185511
CREATED:20221206T200416Z
LAST-MODIFIED:20230904T235358Z
UID:8053-1697482800-1697490000@nanaimofamilyhistory.ca
SUMMARY:NFHS General Meeting
DESCRIPTION:Dalys Barney of Nanaimo\, BC\, Telling My Norwegian Story\, will appear in person and will have a booklet to sell\, Message on a Bottle: Nanaimo’s Soda History \nDalys Barney is the great granddaughter of Ole and Konstanse (Fyhn) Olsen who came to Canada separately from Norway prior to meeting and marrying in Bella Coola in 1914. Dalys’ talk will cover the story of their individual emigrations from Norway; the life they built together in Hagensborg in the Bella Coola Valley; and their eventual move to Vancouver Island in 1935. \nDrawing on her experience working as a library technician at Vancouver Island University\, Dalys will also give a brief overview of some of the resources available at VIU that might be of interest to the NFHS. \nIn addition to her interest in family history\, Dalys is also passionate about local history. In 2023\, she self-published a booklet\, Message on a Bottle: Nanaimo’s Soda History\, which is a look at the city’s soda industry\, focusing on single-serving glass soda bottles and local manufacturers. She’s a member of the Nanaimo Historical Society\, blogs at vanislehistoryexplorer.ca\, and can be reached at vihistoryexplorer@gmail.com \n(Hybrid Meeting for members to appear in person at Beban Park or by Zoom)
URL:https://nanaimofamilyhistory.ca/event/nfhs-general-meeting-34/
LOCATION:Beban Park Social Centre\, Room 7\, 2300 Bowen Road\, Nanaimo\,\, BC\, V9T 3K7\, Canada
END:VEVENT
BEGIN:VEVENT
DTSTART;TZID=America/Denver:20231012T183000
DTEND;TZID=America/Denver:20231012T193000
DTSTAMP:20260422T185511
CREATED:20230912T160225Z
LAST-MODIFIED:20230912T160225Z
UID:8953-1697135400-1697139000@nanaimofamilyhistory.ca
SUMMARY:Genealogy Book Club
DESCRIPTION:Genealogy Book Club\, Terry Hartley \n \nThe book club will study “Tracing Your Ancestors Using DNA”\, edited by Graham Holt. The group will share questions and ideas which arise from reading the book. Everyone interested in the use of DNA for genealogy will enjoy the discussions\, regardless of previous experience. The book will continue to be the focus of several more sessions in the spring of 2024. Register once for all 3 Fall sessions.  \nNote. The print version of the book is only available to order. Try Chapters or Amazon. The ebook is on Kindle and Google. 
URL:https://nanaimofamilyhistory.ca/event/genealogy-book-club-7/
END:VEVENT
BEGIN:VEVENT
DTSTART;TZID=America/Denver:20231005T183000
DTEND;TZID=America/Denver:20231005T193000
DTSTAMP:20260422T185511
CREATED:20230912T155957Z
LAST-MODIFIED:20230912T155957Z
UID:8950-1696530600-1696534200@nanaimofamilyhistory.ca
SUMMARY:Stories of My Hawaiian Family
DESCRIPTION:Stories of My Hawaiian Family\, Susan Garcia \n \nSusan will describe the places in Canada where her Hawaiian ancestors lived and how various gatherings have attempted to keep the Hawaiian descendants celebrating their culture\, especially through dance. Similarly various descendants have different stories about their heritage and brick walls & red herrings abound for the few genealogists in the family.
URL:https://nanaimofamilyhistory.ca/event/stories-of-my-hawaiian-family/
END:VEVENT
BEGIN:VEVENT
DTSTART;TZID=America/Denver:20231002T183000
DTEND;TZID=America/Denver:20231002T193000
DTSTAMP:20260422T185511
CREATED:20221206T201138Z
LAST-MODIFIED:20221206T201138Z
UID:8073-1696271400-1696275000@nanaimofamilyhistory.ca
SUMMARY:NFHS Executive Meeting
DESCRIPTION:
URL:https://nanaimofamilyhistory.ca/event/nfhs-executive-meeting-38/
END:VEVENT
BEGIN:VEVENT
DTSTART;TZID=America/Denver:20230928T183000
DTEND;TZID=America/Denver:20230928T193000
DTSTAMP:20260422T185511
CREATED:20230912T155633Z
LAST-MODIFIED:20230912T160045Z
UID:8946-1695925800-1695929400@nanaimofamilyhistory.ca
SUMMARY:A 1923 Divorce That Wasn’t
DESCRIPTION:A 1923 Divorce That Wasn’t \, Susan Bates \n  \nCanada had no divorce laws until 1968. Some couples went to nearby US states to obtain a divorce. In at least one case\, this wasn’t the solution it appeared to be.
URL:https://nanaimofamilyhistory.ca/event/a-1923-divorce-that-wasnt/
END:VEVENT
END:VCALENDAR