BEGIN:VCALENDAR
VERSION:2.0
PRODID:-//Nanaimo Family History Society - ECPv6.15.20//NONSGML v1.0//EN
CALSCALE:GREGORIAN
METHOD:PUBLISH
X-WR-CALNAME:Nanaimo Family History Society
X-ORIGINAL-URL:https://nanaimofamilyhistory.ca
X-WR-CALDESC:Events for Nanaimo Family History Society
REFRESH-INTERVAL;VALUE=DURATION:PT1H
X-Robots-Tag:noindex
X-PUBLISHED-TTL:PT1H
BEGIN:VTIMEZONE
TZID:America/Denver
BEGIN:DAYLIGHT
TZOFFSETFROM:-0700
TZOFFSETTO:-0600
TZNAME:MDT
DTSTART:20230312T090000
END:DAYLIGHT
BEGIN:STANDARD
TZOFFSETFROM:-0600
TZOFFSETTO:-0700
TZNAME:MST
DTSTART:20231105T080000
END:STANDARD
BEGIN:DAYLIGHT
TZOFFSETFROM:-0700
TZOFFSETTO:-0600
TZNAME:MDT
DTSTART:20240310T090000
END:DAYLIGHT
BEGIN:STANDARD
TZOFFSETFROM:-0600
TZOFFSETTO:-0700
TZNAME:MST
DTSTART:20241103T080000
END:STANDARD
BEGIN:DAYLIGHT
TZOFFSETFROM:-0700
TZOFFSETTO:-0600
TZNAME:MDT
DTSTART:20250309T090000
END:DAYLIGHT
BEGIN:STANDARD
TZOFFSETFROM:-0600
TZOFFSETTO:-0700
TZNAME:MST
DTSTART:20251102T080000
END:STANDARD
BEGIN:DAYLIGHT
TZOFFSETFROM:-0700
TZOFFSETTO:-0600
TZNAME:MDT
DTSTART:20260308T090000
END:DAYLIGHT
BEGIN:STANDARD
TZOFFSETFROM:-0600
TZOFFSETTO:-0700
TZNAME:MST
DTSTART:20261101T080000
END:STANDARD
END:VTIMEZONE
BEGIN:VEVENT
DTSTART;TZID=America/Denver:20250120T190000
DTEND;TZID=America/Denver:20250120T210000
DTSTAMP:20260422T122853
CREATED:20250107T004335Z
LAST-MODIFIED:20250107T004335Z
UID:15186-1737399600-1737406800@nanaimofamilyhistory.ca
SUMMARY:NFHS General Meeting
DESCRIPTION:Tony Green of Nanaimo\, BC – NFHS member \nTony will speak on “Letters from the Crimean War” \nTitle: A Midshipman at Crimea \nCharles William Thomas Cookesley\, aged just 15\, was witness after the fact of the Charge of the Light Brigade.  From Boulogne-sur-mer on the French seaside\, this privileged Doctor’s son starred as a Midshipman in the Crimean War but failed on the Australian goldfields. \n This is a Zoom only presentation
URL:https://nanaimofamilyhistory.ca/event/nfhs-general-meeting-10/
END:VEVENT
BEGIN:VEVENT
DTSTART;TZID=America/Denver:20250109T183000
DTEND;TZID=America/Denver:20250109T200000
DTSTAMP:20260422T122853
CREATED:20250108T184338Z
LAST-MODIFIED:20250108T231654Z
UID:15488-1736447400-1736452800@nanaimofamilyhistory.ca
SUMMARY:Genealogy Book Club
DESCRIPTION:Genealogy Book Club\, Terry Hartley \n  \nThis group will meet the 2nd Thursday of every month from January to June\, 2025. \nWe’re diving into “Research Like a Pro with DNA” by Diana Elder\, Nicole Dyer\, and Robin Wirthln.  \nThe January session will be working on Chapter 7 of the book. 
URL:https://nanaimofamilyhistory.ca/event/genealogy-book-club-13/
END:VEVENT
BEGIN:VEVENT
DTSTART;TZID=America/Denver:20250106T130000
DTEND;TZID=America/Denver:20250106T150000
DTSTAMP:20260422T122853
CREATED:20250107T004116Z
LAST-MODIFIED:20250107T004116Z
UID:15184-1736168400-1736175600@nanaimofamilyhistory.ca
SUMMARY:NFHS Executive Meeting
DESCRIPTION:
URL:https://nanaimofamilyhistory.ca/event/nfhs-executive-meeting-12/
END:VEVENT
BEGIN:VEVENT
DTSTART;TZID=America/Denver:20241212T183000
DTEND;TZID=America/Denver:20241212T200000
DTSTAMP:20260422T122853
CREATED:20240918T182233Z
LAST-MODIFIED:20240918T182233Z
UID:10060-1734028200-1734033600@nanaimofamilyhistory.ca
SUMMARY:Genealogy Book Club
DESCRIPTION:The group meets the 2nd Thursday of every month from September\, 2024 to June\, 2025. Sessions start at 6:30 pm and run for an hour. The next session is October 10th. \n\nWe’re diving into “Research Like a Pro with DNA” by Diana Elder\, Nicole Dyer\, and Robin Wirthln. Together\, we’ll read through this guide and apply its methodology to tackle one of the brick walls in our family trees. Over the course of 10 months\, you can expect to make substantial progress on your genealogical puzzle\, identify actionable next steps\, and perhaps even solve your mystery. This study group offers a unique opportunity to learn about the application of DNA in genealogy and to apply these techniques to your research in a supportive\, collaborative environment. Terry Hartley\, a graduate of the inaugural session of the Research Like a Pro course (2019) offered by the authors\, will share her insights and experiences from the course. \n\nThe book is available in paperback from Amazon for $37.99 and $9.99 for the Kindle version. Once registered\, you’ll receive information about the readings and other preparatory work for our next session. Embark on this journey with us and enhance your genealogy research skills using DNA!
URL:https://nanaimofamilyhistory.ca/event/genealogy-book-club-12/
END:VEVENT
BEGIN:VEVENT
DTSTART;TZID=America/Denver:20241209T143000
DTEND;TZID=America/Denver:20241209T163000
DTSTAMP:20260422T122853
CREATED:20231123T231618Z
LAST-MODIFIED:20231123T231618Z
UID:9333-1733754600-1733761800@nanaimofamilyhistory.ca
SUMMARY:NFHS Social
DESCRIPTION:TBA
URL:https://nanaimofamilyhistory.ca/event/nfhs-social/
LOCATION:Beban Park Social Centre\, Room 7\, 2300 Bowen Road\, Nanaimo\,\, BC\, V9T 3K7\, Canada
END:VEVENT
BEGIN:VEVENT
DTSTART;TZID=America/Denver:20241205T183000
DTEND;TZID=America/Denver:20241205T200000
DTSTAMP:20260422T122853
CREATED:20240925T174827Z
LAST-MODIFIED:20240925T174827Z
UID:10071-1733423400-1733428800@nanaimofamilyhistory.ca
SUMMARY:Researching in Ireland with Bronwyn Frazer
DESCRIPTION:This Special Interest Group (SIG) will meet once a month\, on the first Thursday of the month. Ideally\, it will attract participants who have some experience researching in Ireland as well as those who are seeking guidance with their own research. Discussions will follow an informal Q and A format. The group will work together to solve queries posed by members\, sharing knowledge of existing resources and devising strategies for specific problems. 
URL:https://nanaimofamilyhistory.ca/event/researching-in-ireland-with-bronwyn-frazer-3/
END:VEVENT
BEGIN:VEVENT
DTSTART;TZID=America/Denver:20241202T133000
DTEND;TZID=America/Denver:20241202T150000
DTSTAMP:20260422T122853
CREATED:20231123T225735Z
LAST-MODIFIED:20231123T225735Z
UID:9312-1733146200-1733151600@nanaimofamilyhistory.ca
SUMMARY:NFHS Executive Meeting
DESCRIPTION:
URL:https://nanaimofamilyhistory.ca/event/nfhs-executive-meeting-11/
END:VEVENT
BEGIN:VEVENT
DTSTART;TZID=America/Denver:20241128T183000
DTEND;TZID=America/Denver:20241128T200000
DTSTAMP:20260422T122853
CREATED:20240920T014857Z
LAST-MODIFIED:20240920T014857Z
UID:10064-1732818600-1732824000@nanaimofamilyhistory.ca
SUMMARY:A Tale of Two Research Trips
DESCRIPTION:Ruth Stewart will discuss the results of two recent research trips: what went wrong\, what went right and how she will improve her chances of success for next time. 
URL:https://nanaimofamilyhistory.ca/event/a-tale-of-two-research-trips/
END:VEVENT
BEGIN:VEVENT
DTSTART;TZID=America/Denver:20241121T183000
DTEND;TZID=America/Denver:20241121T200000
DTSTAMP:20260422T122853
CREATED:20240918T182335Z
LAST-MODIFIED:20240918T182335Z
UID:10062-1732213800-1732219200@nanaimofamilyhistory.ca
SUMMARY:A UK Genealogy Pub Crawl
DESCRIPTION:If your ancestors were UK victuallers or licensed inn keepers\, discover sources and methods to research their lives. Join Carolyn as she traces some of her “liquid” ancestors in order to flesh out their lives. 
URL:https://nanaimofamilyhistory.ca/event/a-uk-genealogy-pub-crawl/
END:VEVENT
BEGIN:VEVENT
DTSTART;TZID=America/Denver:20241118T190000
DTEND;TZID=America/Denver:20241118T210000
DTSTAMP:20260422T122853
CREATED:20231123T231507Z
LAST-MODIFIED:20241020T191348Z
UID:9331-1731956400-1731963600@nanaimofamilyhistory.ca
SUMMARY:NFHS General Meeting
DESCRIPTION:Glenn Wright – PROUDLY SHE SERVED:  CANADIAN WOMEN IN UNIFORM\, 1885-1945 \nThe CEF and the Second World War service files in the custody of LAC are and important source of information for family historians\, genealogists\, women’s history\, and all those interested in Canada’s military heritage\,  With these and other related sources\, we can more fully document and appreciated the role of Canadian women in uniform.  This will be the focus of the November presentation.   \n 
URL:https://nanaimofamilyhistory.ca/event/nfhs-general-meeting-9/
END:VEVENT
BEGIN:VEVENT
DTSTART;TZID=America/Denver:20241114T183000
DTEND;TZID=America/Denver:20241114T200000
DTSTAMP:20260422T122853
CREATED:20240918T182134Z
LAST-MODIFIED:20240918T182134Z
UID:10058-1731609000-1731614400@nanaimofamilyhistory.ca
SUMMARY:Genealogy Book Club
DESCRIPTION:The group meets the 2nd Thursday of every month from September\, 2024 to June\, 2025. Sessions start at 6:30 pm and run for an hour. The next session is October 10th. \n\nWe’re diving into “Research Like a Pro with DNA” by Diana Elder\, Nicole Dyer\, and Robin Wirthln. Together\, we’ll read through this guide and apply its methodology to tackle one of the brick walls in our family trees. Over the course of 10 months\, you can expect to make substantial progress on your genealogical puzzle\, identify actionable next steps\, and perhaps even solve your mystery. This study group offers a unique opportunity to learn about the application of DNA in genealogy and to apply these techniques to your research in a supportive\, collaborative environment. Terry Hartley\, a graduate of the inaugural session of the Research Like a Pro course (2019) offered by the authors\, will share her insights and experiences from the course. \n\nThe book is available in paperback from Amazon for $37.99 and $9.99 for the Kindle version. Once registered\, you’ll receive information about the readings and other preparatory work for our next session. Embark on this journey with us and enhance your genealogy research skills using DNA!
URL:https://nanaimofamilyhistory.ca/event/genealogy-book-club-11/
END:VEVENT
BEGIN:VEVENT
DTSTART;TZID=America/Denver:20241107T183000
DTEND;TZID=America/Denver:20241107T200000
DTSTAMP:20260422T122853
CREATED:20240925T174733Z
LAST-MODIFIED:20240925T174733Z
UID:10069-1731004200-1731009600@nanaimofamilyhistory.ca
SUMMARY:Researching in Ireland with Bronwyn Frazer
DESCRIPTION:This Special Interest Group (SIG) will meet once a month\, on the first Thursday of the month. Ideally\, it will attract participants who have some experience researching in Ireland as well as those who are seeking guidance with their own research. Discussions will follow an informal Q and A format. The group will work together to solve queries posed by members\, sharing knowledge of existing resources and devising strategies for specific problems. 
URL:https://nanaimofamilyhistory.ca/event/researching-in-ireland-with-bronwyn-frazer-2/
END:VEVENT
BEGIN:VEVENT
DTSTART;TZID=America/Denver:20241104T133000
DTEND;TZID=America/Denver:20241104T150000
DTSTAMP:20260422T122853
CREATED:20231123T225705Z
LAST-MODIFIED:20231123T225705Z
UID:9310-1730727000-1730732400@nanaimofamilyhistory.ca
SUMMARY:NFHS Executive Meeting
DESCRIPTION:
URL:https://nanaimofamilyhistory.ca/event/nfhs-executive-meeting-10/
END:VEVENT
BEGIN:VEVENT
DTSTART;TZID=America/Denver:20241024T183000
DTEND;TZID=America/Denver:20241024T200000
DTSTAMP:20260422T122853
CREATED:20240925T174947Z
LAST-MODIFIED:20240925T174947Z
UID:10073-1729794600-1729800000@nanaimofamilyhistory.ca
SUMMARY:Computer Talk for Technophobes with Susan Bates
DESCRIPTION:This session is a followup to a similar one held last spring. The objective is to acquire some computer skills that can help your work on your family histories. The topic for a short presentation will be “How to Capture a Screen Shot”. It will be followed by an open Q&A session. Bring a list of things you always wanted to know how to do on your computer.
URL:https://nanaimofamilyhistory.ca/event/computer-talk-for-technophobes-with-susan-bates/
END:VEVENT
BEGIN:VEVENT
DTSTART;TZID=America/Denver:20241021T190000
DTEND;TZID=America/Denver:20241021T210000
DTSTAMP:20260422T122853
CREATED:20231123T231403Z
LAST-MODIFIED:20240416T043254Z
UID:9329-1729537200-1729544400@nanaimofamilyhistory.ca
SUMMARY:NFHS General Meeting
DESCRIPTION:Rosina T. Schmidt (NFHS Member) of Nanaimo\, BC – DANUBE SWABIAN LOST CHILDREN previously presented by her at the U of St. Louis and at a conference in Oregon.  \nRosina will share historical information on the most tragic chapter of the Danube Swabian tragedy.  \nThis is a Hybrid meeting\,
URL:https://nanaimofamilyhistory.ca/event/nfhs-general-meeting-8/
LOCATION:Beban Park Social Centre\, Room 7\, 2300 Bowen Road\, Nanaimo\,\, BC\, V9T 3K7\, Canada
END:VEVENT
BEGIN:VEVENT
DTSTART;TZID=America/Denver:20241010T183000
DTEND;TZID=America/Denver:20241010T200000
DTSTAMP:20260422T122853
CREATED:20240918T182033Z
LAST-MODIFIED:20240918T182033Z
UID:10056-1728585000-1728590400@nanaimofamilyhistory.ca
SUMMARY:Genealogy Book Club
DESCRIPTION:The group meets the 2nd Thursday of every month from September\, 2024 to June\, 2025. Sessions start at 6:30 pm and run for an hour. The next session is October 10th. \n\nWe’re diving into “Research Like a Pro with DNA” by Diana Elder\, Nicole Dyer\, and Robin Wirthln. Together\, we’ll read through this guide and apply its methodology to tackle one of the brick walls in our family trees. Over the course of 10 months\, you can expect to make substantial progress on your genealogical puzzle\, identify actionable next steps\, and perhaps even solve your mystery. This study group offers a unique opportunity to learn about the application of DNA in genealogy and to apply these techniques to your research in a supportive\, collaborative environment. Terry Hartley\, a graduate of the inaugural session of the Research Like a Pro course (2019) offered by the authors\, will share her insights and experiences from the course. \n\nThe book is available in paperback from Amazon for $37.99 and $9.99 for the Kindle version. Once registered\, you’ll receive information about the readings and other preparatory work for our next session. Embark on this journey with us and enhance your genealogy research skills using DNA!
URL:https://nanaimofamilyhistory.ca/event/genealogy-book-club-10/
END:VEVENT
BEGIN:VEVENT
DTSTART;TZID=America/Denver:20241007T133000
DTEND;TZID=America/Denver:20241007T150000
DTSTAMP:20260422T122853
CREATED:20231123T225635Z
LAST-MODIFIED:20231123T225635Z
UID:9308-1728307800-1728313200@nanaimofamilyhistory.ca
SUMMARY:NFHS Executive Meeting
DESCRIPTION:
URL:https://nanaimofamilyhistory.ca/event/nfhs-executive-meeting-9/
END:VEVENT
BEGIN:VEVENT
DTSTART;TZID=America/Denver:20241003T183000
DTEND;TZID=America/Denver:20241003T200000
DTSTAMP:20260422T122853
CREATED:20240925T174551Z
LAST-MODIFIED:20240925T174551Z
UID:10067-1727980200-1727985600@nanaimofamilyhistory.ca
SUMMARY:Researching in Ireland with Bronwyn Frazer
DESCRIPTION:This Special Interest Group (SIG) will meet once a month\, on the first Thursday of the month. Ideally\, it will attract participants who have some experience researching in Ireland as well as those who are seeking guidance with their own research. Discussions will follow an informal Q and A format. The group will work together to solve queries posed by members\, sharing knowledge of existing resources and devising strategies for specific problems. 
URL:https://nanaimofamilyhistory.ca/event/researching-in-ireland-with-bronwyn-frazer/
END:VEVENT
BEGIN:VEVENT
DTSTART;TZID=America/Denver:20240916T190000
DTEND;TZID=America/Denver:20240916T210000
DTSTAMP:20260422T122853
CREATED:20231123T230659Z
LAST-MODIFIED:20240416T043114Z
UID:9327-1726513200-1726520400@nanaimofamilyhistory.ca
SUMMARY:NFHS General Meeting
DESCRIPTION:Dave Obee of Victoria\, BC – will be pleased to give a talk that includes ARTIFICIAL INTELLIGENCE (AI) and ALGORITHMS\, but also some of the other factors\, good and bad\, affecting genealogy these days. \nThis is a Hybrid meeting.
URL:https://nanaimofamilyhistory.ca/event/nfhs-general-meeting-7/
LOCATION:Beban Park Social Centre\, Room 7\, 2300 Bowen Road\, Nanaimo\,\, BC\, V9T 3K7\, Canada
END:VEVENT
BEGIN:VEVENT
DTSTART;TZID=America/Denver:20240912T183000
DTEND;TZID=America/Denver:20240912T200000
DTSTAMP:20260422T122853
CREATED:20240918T181854Z
LAST-MODIFIED:20240918T181854Z
UID:10054-1726165800-1726171200@nanaimofamilyhistory.ca
SUMMARY:Genealogy Book Club Study Group
DESCRIPTION:The group meets the 2nd Thursday of every month from September\, 2024 to June\, 2025. Sessions start at 6:30 pm and run for an hour. The next session is October 10th. \n\nWe’re diving into “Research Like a Pro with DNA” by Diana Elder\, Nicole Dyer\, and Robin Wirthln. Together\, we’ll read through this guide and apply its methodology to tackle one of the brick walls in our family trees. Over the course of 10 months\, you can expect to make substantial progress on your genealogical puzzle\, identify actionable next steps\, and perhaps even solve your mystery. This study group offers a unique opportunity to learn about the application of DNA in genealogy and to apply these techniques to your research in a supportive\, collaborative environment. Terry Hartley\, a graduate of the inaugural session of the Research Like a Pro course (2019) offered by the authors\, will share her insights and experiences from the course. \n\nThe book is available in paperback from Amazon for $37.99 and $9.99 for the Kindle version. Once registered\, you’ll receive information about the readings and other preparatory work for our next session. Embark on this journey with us and enhance your genealogy research skills using DNA!
URL:https://nanaimofamilyhistory.ca/event/genealogy-book-club-study-group/
END:VEVENT
BEGIN:VEVENT
DTSTART;TZID=America/Denver:20240909T133000
DTEND;TZID=America/Denver:20240909T150000
DTSTAMP:20260422T122853
CREATED:20231123T225600Z
LAST-MODIFIED:20231123T225600Z
UID:9306-1725888600-1725894000@nanaimofamilyhistory.ca
SUMMARY:NFHS Executive Meeting
DESCRIPTION:
URL:https://nanaimofamilyhistory.ca/event/nfhs-executive-meeting-8/
END:VEVENT
BEGIN:VEVENT
DTSTART;TZID=America/Denver:20240617T190000
DTEND;TZID=America/Denver:20240617T210000
DTSTAMP:20260422T122853
CREATED:20231123T230528Z
LAST-MODIFIED:20240416T042945Z
UID:9323-1718650800-1718658000@nanaimofamilyhistory.ca
SUMMARY:NFHS General Meeting
DESCRIPTION:Terry Hartley (NFHS Member) of Nanaimo\, BC – MENNONITES\, METIS\, AND A SPRIG OF NOBILITY \nTerry will share the highlights of a genealogy journey she began in the 1970’s.  She will recount her experiences during the “old days” of family history research\, identify major challenges in studying Mennonite\, Metis\, and Royal Ancestry\, and reveal some surprising discoveries she made along the way.  Tips and techniques applicable to other researchers will be interspersed throughout the presentation. \nThis is a Hybrid meeting.
URL:https://nanaimofamilyhistory.ca/event/nfhs-general-meeting-5/
LOCATION:Beban Park Social Centre\, Room 7\, 2300 Bowen Road\, Nanaimo\,\, BC\, V9T 3K7\, Canada
END:VEVENT
BEGIN:VEVENT
DTSTART;TZID=America/Denver:20240613T183000
DTEND;TZID=America/Denver:20240613T193000
DTSTAMP:20260422T122853
CREATED:20240417T230015Z
LAST-MODIFIED:20240417T230015Z
UID:9851-1718303400-1718307000@nanaimofamilyhistory.ca
SUMMARY:Genealogy Book Club
DESCRIPTION:Genealogy Book Club\, Terry Hartley \nThe book club is studying “Tracing Your Ancestors Using DNA”\, edited by Graham Holton. The group will share questions and ideas which arise from reading the book. Everyone interested in the use of DNA for genealogy will enjoy the discussions\, regardless of previous experience. The June session will discuss Chapters 9 and 10. \nRegister once for all book club sessions (only necessary if you haven’t attended before). \nNote. The print version of the book is only available to order. Try Chapters or Amazon. The ebook is on Kindle and Google.
URL:https://nanaimofamilyhistory.ca/event/genealogy-book-club-9/
END:VEVENT
BEGIN:VEVENT
DTSTART;TZID=America/Denver:20240606T183000
DTEND;TZID=America/Denver:20240606T193000
DTSTAMP:20260422T122853
CREATED:20240417T225920Z
LAST-MODIFIED:20240417T225920Z
UID:9849-1717698600-1717702200@nanaimofamilyhistory.ca
SUMMARY:Preparing for a Research Trip
DESCRIPTION:Preparing for a Research Trip? Ruth Stewart \nIf this is your first trip or your fiftieth\, join us to ask questions or share your experiences and best practices. This is a forum style Mini Zoom where everyone is welcome.
URL:https://nanaimofamilyhistory.ca/event/preparing-for-a-research-trip/
END:VEVENT
BEGIN:VEVENT
DTSTART;TZID=America/Denver:20240603T133000
DTEND;TZID=America/Denver:20240603T150000
DTSTAMP:20260422T122853
CREATED:20231123T225521Z
LAST-MODIFIED:20231123T225521Z
UID:9304-1717421400-1717426800@nanaimofamilyhistory.ca
SUMMARY:NFHS Executive Meeting
DESCRIPTION:
URL:https://nanaimofamilyhistory.ca/event/nfhs-executive-meeting-7/
END:VEVENT
BEGIN:VEVENT
DTSTART;TZID=America/Denver:20240523T183000
DTEND;TZID=America/Denver:20240523T193000
DTSTAMP:20260422T122853
CREATED:20240417T225813Z
LAST-MODIFIED:20240417T225813Z
UID:9847-1716489000-1716492600@nanaimofamilyhistory.ca
SUMMARY:Brickwall Busting
DESCRIPTION:Brickwall Busting\, Donna MacIver \nDo you have a dead-end on your tree that you’ve been trying to break through? Or are you new to family history research and unsure where to start? Please bring your problems and questions to this session\, along with the ideas you’ve already tried.  Donna will facilitate a discussion amongst the participants to brainstorm potential solutions and help you on the road to success! \nRegister once for all sessions: January 25\, March 28\, and May 23.
URL:https://nanaimofamilyhistory.ca/event/brickwall-busting/
END:VEVENT
BEGIN:VEVENT
DTSTART;TZID=America/Denver:20240516T183000
DTEND;TZID=America/Denver:20240516T193000
DTSTAMP:20260422T122853
CREATED:20240417T225659Z
LAST-MODIFIED:20240417T225659Z
UID:9845-1715884200-1715887800@nanaimofamilyhistory.ca
SUMMARY:DNA for Beginners
DESCRIPTION:DNA for Beginners\, Susan Bates  \nThe biggest benefit of getting your DNA tested is the opportunity to find matches with previously unknown relatives who can lead you to further discoveries in the search for your ancestors. However\, interpreting the information provided with a match can be tricky and ambiguous. What exactly is a “second cousin\, once removed”? What relationship might you share with a match of 150 cM? Some basic concepts will be explained to help you stay on the right track(s) as you make the most of your DNA test results. 
URL:https://nanaimofamilyhistory.ca/event/dna-for-beginners/
END:VEVENT
BEGIN:VEVENT
DTSTART;TZID=America/Denver:20240513T190000
DTEND;TZID=America/Denver:20240513T210000
DTSTAMP:20260422T122853
CREATED:20231123T230559Z
LAST-MODIFIED:20240429T185535Z
UID:9325-1715626800-1715634000@nanaimofamilyhistory.ca
SUMMARY:NFHS General Meeting
DESCRIPTION:Dave Obee of Victoria\, BC – AN EVEN FRESHER LOOK AT OLD NEWSPAPERS \nDave advises it has been five years since he gave a talk in Nanaimo on newspaper research.  The talk is quite different today. \nThis meeting is a Hybrid meeting.
URL:https://nanaimofamilyhistory.ca/event/nfhs-general-meeting-6/
LOCATION:Beban Park Social Centre\, Room 7\, 2300 Bowen Road\, Nanaimo\,\, BC\, V9T 3K7\, Canada
END:VEVENT
BEGIN:VEVENT
DTSTART;TZID=America/Denver:20240509T183000
DTEND;TZID=America/Denver:20240509T193000
DTSTAMP:20260422T122853
CREATED:20240417T225559Z
LAST-MODIFIED:20240417T225559Z
UID:9843-1715279400-1715283000@nanaimofamilyhistory.ca
SUMMARY:Genealogy Book Club
DESCRIPTION:Genealogy Book Club\, Terry Hartley \nThe book club is studying “Tracing Your Ancestors Using DNA”\, edited by Graham Holton. The group will share questions and ideas which arise from reading the book. Everyone interested in the use of DNA for genealogy will enjoy the discussions\, regardless of previous experience. The May session will discuss Chapter 9. \nRegister once for all 3 Spring sessions (only necessary if you haven’t attended before). \nNote. The print version of the book is only available to order. Try Chapters or Amazon. The ebook is on Kindle and Google. 
URL:https://nanaimofamilyhistory.ca/event/genealogy-book-club-8/
END:VEVENT
BEGIN:VEVENT
DTSTART;TZID=America/Denver:20240506T133000
DTEND;TZID=America/Denver:20240506T150000
DTSTAMP:20260422T122853
CREATED:20231123T225450Z
LAST-MODIFIED:20231123T225450Z
UID:9302-1715002200-1715007600@nanaimofamilyhistory.ca
SUMMARY:NFHS Executive Meeting
DESCRIPTION:
URL:https://nanaimofamilyhistory.ca/event/nfhs-executive-meeting-6/
END:VEVENT
END:VCALENDAR